BEGIN:VCALENDAR
VERSION:2.0
PRODID:-//Gemeinde Westerheim - ECPv5.4.0//NONSGML v1.0//EN
CALSCALE:GREGORIAN
METHOD:PUBLISH
X-WR-CALNAME:Gemeinde Westerheim
X-ORIGINAL-URL:https://www.gemeinde-westerheim.de
X-WR-CALDESC:Veranstaltungen für Gemeinde Westerheim
BEGIN:VTIMEZONE
TZID:Europe/Berlin
BEGIN:DAYLIGHT
TZOFFSETFROM:+0100
TZOFFSETTO:+0200
TZNAME:CEST
DTSTART:20260329T010000
END:DAYLIGHT
BEGIN:STANDARD
TZOFFSETFROM:+0200
TZOFFSETTO:+0100
TZNAME:CET
DTSTART:20261025T010000
END:STANDARD
END:VTIMEZONE
BEGIN:VEVENT
DTSTART;TZID=Europe/Berlin:20260603T120000
DTEND;TZID=Europe/Berlin:20260603T170000
DTSTAMP:20260422T000833
CREATED:20260223T110542Z
LAST-MODIFIED:20260223T114228Z
UID:11200-1780488000-1780506000@www.gemeinde-westerheim.de
SUMMARY:Brunnenfest - Schützenverein Günz 1922 e.V.
DESCRIPTION:
URL:https://www.gemeinde-westerheim.de/event/brunnenfest-schuetzenverein-guenz-1922-e-v/
CATEGORIES:Veranstaltungen
END:VEVENT
END:VCALENDAR