BEGIN:VCALENDAR
VERSION:2.0
PRODID:-//Gemeinde Westerheim - ECPv5.4.0//NONSGML v1.0//EN
CALSCALE:GREGORIAN
METHOD:PUBLISH
X-WR-CALNAME:Gemeinde Westerheim
X-ORIGINAL-URL:https://www.gemeinde-westerheim.de
X-WR-CALDESC:Veranstaltungen für Gemeinde Westerheim
BEGIN:VTIMEZONE
TZID:Europe/Berlin
BEGIN:DAYLIGHT
TZOFFSETFROM:+0100
TZOFFSETTO:+0200
TZNAME:CEST
DTSTART:20260329T010000
END:DAYLIGHT
BEGIN:STANDARD
TZOFFSETFROM:+0200
TZOFFSETTO:+0100
TZNAME:CET
DTSTART:20261025T010000
END:STANDARD
END:VTIMEZONE
BEGIN:VEVENT
DTSTART;TZID=Europe/Berlin:20260424T110000
DTEND;TZID=Europe/Berlin:20260424T170000
DTSTAMP:20260421T205911
CREATED:20260223T105934Z
LAST-MODIFIED:20260223T114256Z
UID:11198-1777028400-1777050000@www.gemeinde-westerheim.de
SUMMARY:Maibaumfest - Schützenverein 1922 Günz e.V.
DESCRIPTION:
URL:https://www.gemeinde-westerheim.de/event/maibaumfest-schuetzenverein-hubertus-guenz/
CATEGORIES:Veranstaltungen
END:VEVENT
BEGIN:VEVENT
DTSTART;TZID=Europe/Berlin:20260424T150000
DTEND;TZID=Europe/Berlin:20260424T150000
DTSTAMP:20260421T205911
CREATED:20260414T162013Z
LAST-MODIFIED:20260421T150746Z
UID:11433-1777042800-1777042800@www.gemeinde-westerheim.de
SUMMARY:Westerheimer Wochenmarkt
DESCRIPTION:
URL:https://www.gemeinde-westerheim.de/event/westerheimer-wochenmarkt-7/
LOCATION:Platz vor der Mehrzweckhalle Westerheim\, Bahnhofstr. 2\, Westerheim\, 87784\, Deutschland
CATEGORIES:Veranstaltungen
END:VEVENT
BEGIN:VEVENT
DTSTART;TZID=Europe/Berlin:20260424T190000
DTEND;TZID=Europe/Berlin:20260424T210000
DTSTAMP:20260421T205911
CREATED:20260331T095344Z
LAST-MODIFIED:20260331T095623Z
UID:11409-1777057200-1777064400@www.gemeinde-westerheim.de
SUMMARY:FC Westerheim e.V. - Abteilung Tennis - Abteilungsversammlung
DESCRIPTION:Zur Abteilungsversammlung der Tennisabteilung am Freitag\, 24.4.26\, um 19 Uhr\, im Tennisheim\, laden wir herzlich ein. Tagesordnung \n\nBegrüßung\nBericht des Abteilungsleiters\nBericht des Kassiers\nBericht des Schriftführers\nBericht des Sportwarts\nBericht des Kassenprüfers und Entlastung der Vorstandschaft\nNeuwahlen\nWünsche und Anträge\n\nWir bitten um zahlreiche Teilnahme. Die Vorstandschaft
URL:https://www.gemeinde-westerheim.de/event/fc-westerheim-e-v-abteilung-tennis-abteilungsversammlung/
LOCATION:Tennisheim Westerheim\, Raiffeisenstraße\, Westerheim\, 87784\, Deutschland
CATEGORIES:Veranstaltungen
END:VEVENT
END:VCALENDAR