BEGIN:VCALENDAR
VERSION:2.0
PRODID:-//Gemeinde Westerheim - ECPv5.4.0//NONSGML v1.0//EN
CALSCALE:GREGORIAN
METHOD:PUBLISH
X-WR-CALNAME:Gemeinde Westerheim
X-ORIGINAL-URL:https://www.gemeinde-westerheim.de
X-WR-CALDESC:Veranstaltungen für Gemeinde Westerheim
BEGIN:VTIMEZONE
TZID:Europe/Berlin
BEGIN:DAYLIGHT
TZOFFSETFROM:+0100
TZOFFSETTO:+0200
TZNAME:CEST
DTSTART:20260329T010000
END:DAYLIGHT
BEGIN:STANDARD
TZOFFSETFROM:+0200
TZOFFSETTO:+0100
TZNAME:CET
DTSTART:20261025T010000
END:STANDARD
END:VTIMEZONE
BEGIN:VEVENT
DTSTART;TZID=Europe/Berlin:20260423T140000
DTEND;TZID=Europe/Berlin:20260423T170000
DTSTAMP:20260421T210539
CREATED:20260331T094642Z
LAST-MODIFIED:20260421T150533Z
UID:11406-1776952800-1776963600@www.gemeinde-westerheim.de
SUMMARY:Seniorennachmittag - Pfarrgemeinderat Westerheim
DESCRIPTION:Auf Euren Besuch freut sich das Seniorenteam. Möchten Sie abgeholt werden\, dann rufen Sie bitte bei Sigrid Zinth\, Tel. 368\, an.
URL:https://www.gemeinde-westerheim.de/event/seniorennachmittag-pfarrgemeinderat-westerheim-22/
LOCATION:Pfarrheim Westerheim\, Schulweg 3\, Westerheim\, Bayern\, 87784\, Deutschland
CATEGORIES:Veranstaltungen
END:VEVENT
BEGIN:VEVENT
DTSTART;TZID=Europe/Berlin:20260423T183000
DTEND;TZID=Europe/Berlin:20260423T193000
DTSTAMP:20260421T210539
CREATED:20260414T162311Z
LAST-MODIFIED:20260414T162311Z
UID:11435-1776969000-1776972600@www.gemeinde-westerheim.de
SUMMARY:FCW-Schlachtpartie
DESCRIPTION:
URL:https://www.gemeinde-westerheim.de/event/fcw-schlachtpartie/
LOCATION:Sportheim Westerheim
CATEGORIES:Veranstaltungen
END:VEVENT
BEGIN:VEVENT
DTSTART;TZID=Europe/Berlin:20260423T193000
DTEND;TZID=Europe/Berlin:20260423T213000
DTSTAMP:20260421T210539
CREATED:20260303T100236Z
LAST-MODIFIED:20260324T174546Z
UID:11260-1776972600-1776979800@www.gemeinde-westerheim.de
SUMMARY:Jahresversammlung  - Obst- und Gartenbauverein Günz
DESCRIPTION:Jahresversammlung  mit Referentin Emmi Karrer aus Volkratshofen “Gesünder leben ohne Nahrungsmittelzusatzstoffe”. Für die anstehende Neuwahl haben wir innerhalb der Vorstandschaft eine Lösung gefunden\, würden uns aber sehr über neue Vorstandsmitglieder\, die bereit sind\, die Zukunft unseres Vereins aktiv mitzugestalten\, freuen. \nAltmetallsammlung voraussichtlich im Mai 2026!
URL:https://www.gemeinde-westerheim.de/event/jahresversammlung-mit-neuwahlen-obst-und-gartenbauverein-guenz/
LOCATION:Gasthaus Laupheimer\, Dorfstraße 19\, Günz\, Bayern\, 87784\, Deutschland
CATEGORIES:Veranstaltungen
END:VEVENT
END:VCALENDAR