BEGIN:VCALENDAR
VERSION:2.0
PRODID:-//Gemeinde Westerheim - ECPv5.4.0//NONSGML v1.0//EN
CALSCALE:GREGORIAN
METHOD:PUBLISH
X-WR-CALNAME:Gemeinde Westerheim
X-ORIGINAL-URL:https://www.gemeinde-westerheim.de
X-WR-CALDESC:Veranstaltungen für Gemeinde Westerheim
BEGIN:VTIMEZONE
TZID:Europe/Berlin
BEGIN:DAYLIGHT
TZOFFSETFROM:+0100
TZOFFSETTO:+0200
TZNAME:CEST
DTSTART:20260329T010000
END:DAYLIGHT
BEGIN:STANDARD
TZOFFSETFROM:+0200
TZOFFSETTO:+0100
TZNAME:CET
DTSTART:20261025T010000
END:STANDARD
END:VTIMEZONE
BEGIN:VEVENT
DTSTART;TZID=Europe/Berlin:20260411T140000
DTEND;TZID=Europe/Berlin:20260411T170000
DTSTAMP:20260421T210400
CREATED:20260311T102312Z
LAST-MODIFIED:20260331T094814Z
UID:11313-1775916000-1775926800@www.gemeinde-westerheim.de
SUMMARY:Jahresversammlung - Kath. Frauenbund Westerheim
DESCRIPTION:Zu unserer Jahresversammlung am Samstag\, 11.04.26\, um 14 Uhr\, im Pfarrheim mit Kaffee und Kuchen\, laden wir alle Mitglieder recht herzlich ein. \nTagesordnung: \n\nBegrüßung und Totengedenken\nTätigkeitsbericht der Eltern-Kind-Gruppe\nTätigkeitsbericht der Schriftführerin\nKassenbericht\nBericht der Kassenprüfer\nEntlastung der Vorstandschaft\nÄnderung der Satzung\nWahl des Teams\nEhrungen\nWünsche und Anträge\nVorschau auf das Jahresprogramm\n\nAuf ihr zahlreiches Kommen freut sich das FB-Team
URL:https://www.gemeinde-westerheim.de/event/jahresversammlung-kath-frauenbund-westerheim-2/
LOCATION:Pfarrheim
CATEGORIES:Veranstaltungen
END:VEVENT
END:VCALENDAR