BEGIN:VCALENDAR
VERSION:2.0
PRODID:-//Gemeinde Westerheim - ECPv5.4.0//NONSGML v1.0//EN
CALSCALE:GREGORIAN
METHOD:PUBLISH
X-WR-CALNAME:Gemeinde Westerheim
X-ORIGINAL-URL:https://www.gemeinde-westerheim.de
X-WR-CALDESC:Veranstaltungen für Gemeinde Westerheim
BEGIN:VTIMEZONE
TZID:Europe/Berlin
BEGIN:DAYLIGHT
TZOFFSETFROM:+0100
TZOFFSETTO:+0200
TZNAME:CEST
DTSTART:20260329T010000
END:DAYLIGHT
BEGIN:STANDARD
TZOFFSETFROM:+0200
TZOFFSETTO:+0100
TZNAME:CET
DTSTART:20261025T010000
END:STANDARD
END:VTIMEZONE
BEGIN:VEVENT
DTSTART;TZID=Europe/Berlin:20260307T070000
DTEND;TZID=Europe/Berlin:20260307T170000
DTSTAMP:20260423T104953
CREATED:20260303T093059Z
LAST-MODIFIED:20260303T095417Z
UID:11256-1772866800-1772902800@www.gemeinde-westerheim.de
SUMMARY:Kinder Skifahrt - FC Westerheim
DESCRIPTION:Alle Mitglieder\, die in den letzten Jahren einen Skikurs bei uns besucht haben\, laden wir herzlich zu einer gemeinsamen Skifahrt ein: am Samstag\, 07.03.26\, zum Hahnenkamm in Reutte\, 40 EUR für Busfahrt\, Tageskarte und Betreuung durch unsere Übungsleiter. Abfahrt: 7 Uhr an der MZH in Westerheim.  Anmeldung bei: Walter Ettmüller\, Tel. 08336/80 18 25 bzw. 0175/189 60 35
URL:https://www.gemeinde-westerheim.de/event/kinder-skifahrt-fc-westerheim/
CATEGORIES:Veranstaltungen
END:VEVENT
BEGIN:VEVENT
DTSTART;TZID=Europe/Berlin:20260307T070000
DTEND;TZID=Europe/Berlin:20260307T170000
DTSTAMP:20260423T104953
CREATED:20260303T095701Z
LAST-MODIFIED:20260303T095701Z
UID:11258-1772866800-1772902800@www.gemeinde-westerheim.de
SUMMARY:Skiausflug nach Balderschwang
DESCRIPTION:Abfahrt am Sportheim 7 Uhr. Wegen Terminüberschneidung sind ein paar Plätze frei geworden. Die Wetterprognose ist gut.🙂. Bus mit Tageskarte Erw. 60\,- € Kinder 38.- €.  Kontakt: Josef Rampp 0170/481 00 28
URL:https://www.gemeinde-westerheim.de/event/skiausflug-nach-balderschwang/
CATEGORIES:Veranstaltungen
END:VEVENT
BEGIN:VEVENT
DTSTART;TZID=Europe/Berlin:20260307T090000
DTEND;TZID=Europe/Berlin:20260307T110000
DTSTAMP:20260423T104953
CREATED:20260216T110419Z
LAST-MODIFIED:20260216T110419Z
UID:11172-1772874000-1772881200@www.gemeinde-westerheim.de
SUMMARY:Baumschnittkurs - Obst- und Gartenbauverein Westerheim
DESCRIPTION:Nach 3-Jähriger Pause bietet der OGV wieder einen Baumschnittkurs an. Lizensierte Baumpflegerin Ursi Lerchenmüller zeigt uns alles über Erziehungs-\, Pflege- und Erhaltungsschnitt. Am Samstag\, 07.03.26 beginnt der Schnittkurs bei Wolfgang Fürst\, Ottobeurer Str. 8 um 9 Uhr. Dauer ca. 3 Stunden. Für den Kurs müssen wir 5 € als Kostenbeteiligung von Nichtmitgliedern verlangen. Wir bitten Werkzeug\, wenn vorhanden\, mitzubringen. Bitte unbedingt bald anmelden unter Tel. 80393. \nFürst Wolfgang\, für den OGV Westerheim
URL:https://www.gemeinde-westerheim.de/event/baumschnittkurs-obst-und-gartenbauverein-westerheim/
CATEGORIES:Veranstaltungen
END:VEVENT
END:VCALENDAR