BEGIN:VCALENDAR
VERSION:2.0
PRODID:-//Gemeinde Westerheim - ECPv5.4.0//NONSGML v1.0//EN
CALSCALE:GREGORIAN
METHOD:PUBLISH
X-WR-CALNAME:Gemeinde Westerheim
X-ORIGINAL-URL:https://www.gemeinde-westerheim.de
X-WR-CALDESC:Veranstaltungen für Gemeinde Westerheim
BEGIN:VTIMEZONE
TZID:Europe/Berlin
BEGIN:DAYLIGHT
TZOFFSETFROM:+0100
TZOFFSETTO:+0200
TZNAME:CEST
DTSTART:20250330T010000
END:DAYLIGHT
BEGIN:STANDARD
TZOFFSETFROM:+0200
TZOFFSETTO:+0100
TZNAME:CET
DTSTART:20251026T010000
END:STANDARD
END:VTIMEZONE
BEGIN:VEVENT
DTSTART;TZID=Europe/Berlin:20250301T100000
DTEND;TZID=Europe/Berlin:20250301T160000
DTSTAMP:20260423T164846
CREATED:20250114T162019Z
LAST-MODIFIED:20250114T162019Z
UID:9654-1740823200-1740844800@www.gemeinde-westerheim.de
SUMMARY:Bio-Ring Saatgutmarkt in der Dampfsäg
DESCRIPTION:Am Samstag\, 01.03.25\, von 10 bis 16 Uhr\, in der Dampfsäg Sontheim\, mit Vorträgen und Kinderprogramm. Auf dem Bio-Ring Saatgutmarkt kann bei über 20 Ausstellern Bio-Saatgut und Pflanzen von schmackhaftem Gemüse\, Kräutern und Blumen erworben werden\, aber auch Beerensträucher\, Obstraritäten. Garantiert ohne Gentechnik und natürlich samenfest – und damit\, anders als die inzwischen vorherrschende Hybridsaat\, auch von jedem für den eigenen Garten reproduzierbar. Selbst gewonnenes Saatgut zum Tauschen ist willkommen. Die Ökomodellregion Günztal stellt ihre Projekte vor. Für Kinder gibt es ein Bastelangebot\, die Dampfsäg bietet leckeres Essen\, Getränke\, Kaffee und Kuchen an. Beim Glücksrad kann jeder sein Glück versuchen. Programm für groß und klein. \nVorträge: · 11 Uhr: “Faszination Streuobst“ Markus Orf\, Gartenfachberater Unterallgäu · 13 Uhr “Die neue Lust am Nutzgarten” Eva Maria Herb\, Biogärtnerin\, Gärtnerei Herb\, Kempten. Weitere Stände mit Direktvermarktern sowie Infos zum Ökolandbau\, Gentechnik und Naturschutz runden das Marktangebot ab. Eintritt: 2€\, Kinder frei. Veranstalter: Bio-Ring Allgäu e.V. im Rahmen des Projektes „Bio für die Zukunft “www.bioring-allgaeu.de
URL:https://www.gemeinde-westerheim.de/event/bio-ring-saatgutmarkt-in-der-dampfsaeg/
LOCATION:Dampfsäg Sontheim
CATEGORIES:Veranstaltungen
END:VEVENT
BEGIN:VEVENT
DTSTART;TZID=Europe/Berlin:20250301T130000
DTEND;TZID=Europe/Berlin:20250301T170000
DTSTAMP:20260423T164846
CREATED:20241211T080851Z
LAST-MODIFIED:20250211T171830Z
UID:9569-1740834000-1740848400@www.gemeinde-westerheim.de
SUMMARY:7. Günzer Karnevalszug - Karnevals-Freunde-Günz 2011
DESCRIPTION:Mit Partyzelt und Barbetrieb. Am Nachmittag gibt es Kaffee und Kuchen. \n  \n  \n  \n 
URL:https://www.gemeinde-westerheim.de/event/7-guenzer-karnevalszug-karnevals-freunde-guenz-2011/
CATEGORIES:Veranstaltungen
END:VEVENT
END:VCALENDAR