BEGIN:VCALENDAR
VERSION:2.0
PRODID:-//Gemeinde Westerheim - ECPv5.4.0//NONSGML v1.0//EN
CALSCALE:GREGORIAN
METHOD:PUBLISH
X-WR-CALNAME:Gemeinde Westerheim
X-ORIGINAL-URL:https://www.gemeinde-westerheim.de
X-WR-CALDESC:Veranstaltungen für Gemeinde Westerheim
BEGIN:VTIMEZONE
TZID:Europe/Berlin
BEGIN:DAYLIGHT
TZOFFSETFROM:+0100
TZOFFSETTO:+0200
TZNAME:CEST
DTSTART:20240331T010000
END:DAYLIGHT
BEGIN:STANDARD
TZOFFSETFROM:+0200
TZOFFSETTO:+0100
TZNAME:CET
DTSTART:20241027T010000
END:STANDARD
END:VTIMEZONE
BEGIN:VEVENT
DTSTART;TZID=Europe/Berlin:20241125T193000
DTEND;TZID=Europe/Berlin:20241125T220000
DTSTAMP:20260423T120553
CREATED:20241106T090941Z
LAST-MODIFIED:20241118T083057Z
UID:9386-1732563000-1732572000@www.gemeinde-westerheim.de
SUMMARY:Bürgerversammlung Gemeinde Westerheim
DESCRIPTION:Liebe Bürgerinnen und Bürger\, wir laden Sie herzlich zur diesjährigen Bürgerversammlung in der Gemeinde Westerheim ein. Im Rahmen der Bürgerversammlung berichtet die Erste Bürgermeisterin Christa Bail über die Finanzen der Gemeinde Westerheim und stellt abgeschlossene und geplante Projekte vor. \nDie Bürgerversammlung findet \nam Montag\, 25. November 2024\, ab 19.30 Uhr\nin der Mehrzweckhalle Westerheim\, Bahnhofstr. 2\, statt. \nVor dem Bericht der Bürgermeisterin wird das Ingenieurbüro Koch\, Kempten zum innerörtlichen Hochwasserschutz berichten sowie Hinweise und Anregungen aufnehmen. \nAlle Einwohnerinnen und Einwohner der Gemeinde haben die Gelegenheit\, ihre Anfragen\, Anregungen und Empfehlungen vorzubringen. Sie können uns im Vorfeld der Bürgerversammlung (bitte eine Woche vorher) evtl. Vorschläge oder Anregungen\, zu Themen\, die in der Versammlung behandelt werden sollen\, zukommen lassen. Diese richten Sie bitte an rathaus@gemeinde-westerheim.de oder schriftlich an die Gemeinde Westerheim\, Bahnhofstr. 2\, 87784 Westerheim. Nutzen Sie die Möglichkeit der direkten Information!
URL:https://www.gemeinde-westerheim.de/event/einladung-buergerversammlung/
LOCATION:Mehrzweckhalle Westerheim\, Bahnhofstr. 2\, Westerheim\, 87784\, Deutschland
CATEGORIES:Veranstaltungen
ORGANIZER;CN="Gemeinde%20Westerheim":MAILTO:rathaus@gemeinde-westerheim.de
END:VEVENT
END:VCALENDAR