BEGIN:VCALENDAR
VERSION:2.0
PRODID:-//Gemeinde Westerheim - ECPv5.4.0//NONSGML v1.0//EN
CALSCALE:GREGORIAN
METHOD:PUBLISH
X-WR-CALNAME:Gemeinde Westerheim
X-ORIGINAL-URL:https://www.gemeinde-westerheim.de
X-WR-CALDESC:Veranstaltungen für Gemeinde Westerheim
BEGIN:VTIMEZONE
TZID:Europe/Berlin
BEGIN:DAYLIGHT
TZOFFSETFROM:+0100
TZOFFSETTO:+0200
TZNAME:CEST
DTSTART:20240331T010000
END:DAYLIGHT
BEGIN:STANDARD
TZOFFSETFROM:+0200
TZOFFSETTO:+0100
TZNAME:CET
DTSTART:20241027T010000
END:STANDARD
END:VTIMEZONE
BEGIN:VEVENT
DTSTART;TZID=Europe/Berlin:20241122T210000
DTEND;TZID=Europe/Berlin:20241122T230000
DTSTAMP:20260421T111704
CREATED:20241112T173146Z
LAST-MODIFIED:20241112T173436Z
UID:9446-1732309200-1732316400@www.gemeinde-westerheim.de
SUMMARY:Jahreshauptversammlung - Schützenverein Günz 1922
DESCRIPTION:Am Freitag\, 22.11.24 ab ca. 21 Uhr findet unsere jährliche Jahresversammlung statt. Tagesordnungspunkte entnehmen Sie bitte am Anschlag. \nAuf zahlreiche Teilnahme freut sich die Vorstandschaft
URL:https://www.gemeinde-westerheim.de/event/generalversammlung-wasserbeschaffungsverband-rummeltshausen-guenz/
LOCATION:Schützenheim\, Dorfstraße 19\, Günz\, Bayern\, 87784\, Deutschland
CATEGORIES:Veranstaltungen
END:VEVENT
END:VCALENDAR