BEGIN:VCALENDAR
VERSION:2.0
PRODID:-//Gemeinde Westerheim - ECPv5.4.0//NONSGML v1.0//EN
CALSCALE:GREGORIAN
METHOD:PUBLISH
X-WR-CALNAME:Gemeinde Westerheim
X-ORIGINAL-URL:https://www.gemeinde-westerheim.de
X-WR-CALDESC:Veranstaltungen für Gemeinde Westerheim
BEGIN:VTIMEZONE
TZID:Europe/Berlin
BEGIN:DAYLIGHT
TZOFFSETFROM:+0100
TZOFFSETTO:+0200
TZNAME:CEST
DTSTART:20240331T010000
END:DAYLIGHT
BEGIN:STANDARD
TZOFFSETFROM:+0200
TZOFFSETTO:+0100
TZNAME:CET
DTSTART:20241027T010000
END:STANDARD
END:VTIMEZONE
BEGIN:VEVENT
DTSTART;TZID=Europe/Berlin:20241012T080000
DTEND;TZID=Europe/Berlin:20241012T170000
DTSTAMP:20260421T102230
CREATED:20240911T083320Z
LAST-MODIFIED:20240911T083320Z
UID:9101-1728720000-1728752400@www.gemeinde-westerheim.de
SUMMARY:Schützenverein Hubertus Günz e.V. - Oktoberfest
DESCRIPTION:Der Schützenverein “Hubertus” Günz feiert am 12.10.24 wieder ein Oktoberfest im Schützenheim. Diesmal mit den Westerheimer Wirtshausmusikanten. Mit Barbetrieb. Der Eintritt ist frei.                                                 Wir freuen uns auf Euren Besuch.
URL:https://www.gemeinde-westerheim.de/event/schuetzenverein-hubertus-guenz-e-v-oktoberfest/
CATEGORIES:Veranstaltungen
END:VEVENT
BEGIN:VEVENT
DTSTART;TZID=Europe/Berlin:20241012T200000
DTEND;TZID=Europe/Berlin:20241012T230000
DTSTAMP:20260421T102230
CREATED:20241001T164908Z
LAST-MODIFIED:20241001T164908Z
UID:9205-1728763200-1728774000@www.gemeinde-westerheim.de
SUMMARY:Oktoberfest - Schützenverein "Hubertus" Günz
DESCRIPTION:Der Schützenverein “Hubertus” Günz feiert am 12.10.24 wieder ein Oktoberfest im Schützenheim. Diesmal mit den Westerheimer Wirtshausmusikanten. Mit Barbetrieb. Der Eintritt ist frei.
URL:https://www.gemeinde-westerheim.de/event/oktoberfest-schuetzenverein-hubertus-guenz/
LOCATION:Schützenheim “Hubertus Günz”\, Breubergweg 1\, Günz\, Bayern\, 87784\, Deutschland
CATEGORIES:Veranstaltungen
END:VEVENT
END:VCALENDAR