BEGIN:VCALENDAR
VERSION:2.0
PRODID:-//Gemeinde Westerheim - ECPv5.4.0//NONSGML v1.0//EN
CALSCALE:GREGORIAN
METHOD:PUBLISH
X-WR-CALNAME:Gemeinde Westerheim
X-ORIGINAL-URL:https://www.gemeinde-westerheim.de
X-WR-CALDESC:Veranstaltungen für Gemeinde Westerheim
BEGIN:VTIMEZONE
TZID:Europe/Berlin
BEGIN:DAYLIGHT
TZOFFSETFROM:+0100
TZOFFSETTO:+0200
TZNAME:CEST
DTSTART:20240331T010000
END:DAYLIGHT
BEGIN:STANDARD
TZOFFSETFROM:+0200
TZOFFSETTO:+0100
TZNAME:CET
DTSTART:20241027T010000
END:STANDARD
END:VTIMEZONE
BEGIN:VEVENT
DTSTART;TZID=Europe/Berlin:20240914T080000
DTEND;TZID=Europe/Berlin:20240914T170000
DTSTAMP:20260421T105555
CREATED:20240423T144615Z
LAST-MODIFIED:20240812T091946Z
UID:8516-1726300800-1726333200@www.gemeinde-westerheim.de
SUMMARY:Ausflug Frauenbund Westerheim und Obst- und Gartenbauverein Westerheim
DESCRIPTION:Herzliche Einladung zum Ausflug an den Bodensee am 14.09.24. Unser Programm:  8 Uhr Abfahrt am Feuerwehrhaus in Westerheim; 10 Uhr Ankunft in Salem\, Brotzeit am Bus; 11 Uhr Führung durch die Gärten von Kloster und Schloss Salem\, anschließend Zeit zur freien Verfügung; 14 Uhr Weiterfahrt nach Überlingen: Aufenthalt in der Altstadt und an der Seepromenade; 16 Uhr Abfahrt zur Wallfahrtskirche Birnau. Ankunft in Westerheim um 19.30 Uhr. Kosten: 40 Euro für Fahrt\, Brotzeit und Führung; Betrag wird im Bus eingesammelt. Anmeldung bis spätestens 6.09.24 bei Wolfgang Fürst Tel. 80393 oder Brigitte Brunner Tel. 1532.
URL:https://www.gemeinde-westerheim.de/event/ausflug-frauenbund-westerheim-und-obst-und-gartenbauverein-westerheim/
CATEGORIES:Veranstaltungen
END:VEVENT
BEGIN:VEVENT
DTSTART;TZID=Europe/Berlin:20240914T080000
DTEND;TZID=Europe/Berlin:20240914T170000
DTSTAMP:20260421T105555
CREATED:20240911T082743Z
LAST-MODIFIED:20240911T082743Z
UID:9097-1726300800-1726333200@www.gemeinde-westerheim.de
SUMMARY:Pfarrgemeinderat Günz und Westerheim - Kleider- und Papiersammlung der Aktion Hoffnung
DESCRIPTION:Am Samstag\, 14.09.24 findet die Kleider- und Altpapiersammlung der „Aktion Hoffnung“ statt. Gesammelt werden nur brauchbare und saubere Kleidung\, Bettwäsche\, Schuhe\, ohne Beschädigung (paarweise zusammengebunden!!). Zeitungen und Zeitschriften\, zu handlichen Bündeln kreuzweise verschnürt. Bitte legen sie die Säcke mit Kleidern und das Altpapier an den Straßenrand. Die Kleider werden dann sortiert und entsprechender Wiederverwertung zugeführt. Das Papier wird zur Papierfabrik geliefert und recycelt. Mit dem Erlös finanziert die „Aktion Hoffnung“ Entwicklungsprojekte weltweit.  Nähere Informationen unter www.aktion-hoffnung.de. Zusätzliche Säcke finden Sie in den jeweiligen Pfarrkirchen.      Für Ihre Unterstützung ein herzliches „Vergelts Gott“.
URL:https://www.gemeinde-westerheim.de/event/pfarrgemeinderat-guenz-und-westerheim-kleider-und-papiersammlung-der-aktion-hoffnung/
CATEGORIES:Veranstaltungen
END:VEVENT
BEGIN:VEVENT
DTSTART;TZID=Europe/Berlin:20240914T140000
DTEND;TZID=Europe/Berlin:20240914T170000
DTSTAMP:20260421T105555
CREATED:20240911T080238Z
LAST-MODIFIED:20240911T080238Z
UID:9079-1726322400-1726333200@www.gemeinde-westerheim.de
SUMMARY:Ökomodellregion Günztal - Ackerbesuch SoLawi Schafroth-Hof
DESCRIPTION:Weitere Informationen zu den Veranstaltungen unter www.oekomodellregion-guenztal.de.
URL:https://www.gemeinde-westerheim.de/event/oekomodellregion-guenztal-ackerbesuch-solawi-schafroth-hof/
LOCATION:Markt Rettenbach
CATEGORIES:Veranstaltungen
END:VEVENT
END:VCALENDAR