BEGIN:VCALENDAR
VERSION:2.0
PRODID:-//Gemeinde Westerheim - ECPv5.4.0//NONSGML v1.0//EN
CALSCALE:GREGORIAN
METHOD:PUBLISH
X-WR-CALNAME:Gemeinde Westerheim
X-ORIGINAL-URL:https://www.gemeinde-westerheim.de
X-WR-CALDESC:Veranstaltungen für Gemeinde Westerheim
BEGIN:VTIMEZONE
TZID:Europe/Berlin
BEGIN:DAYLIGHT
TZOFFSETFROM:+0100
TZOFFSETTO:+0200
TZNAME:CEST
DTSTART:20240331T010000
END:DAYLIGHT
BEGIN:STANDARD
TZOFFSETFROM:+0200
TZOFFSETTO:+0100
TZNAME:CET
DTSTART:20241027T010000
END:STANDARD
END:VTIMEZONE
BEGIN:VEVENT
DTSTART;TZID=Europe/Berlin:20240804T140000
DTEND;TZID=Europe/Berlin:20240804T170000
DTSTAMP:20260421T103749
CREATED:20240730T072007Z
LAST-MODIFIED:20240730T074507Z
UID:9014-1722780000-1722790800@www.gemeinde-westerheim.de
SUMMARY:Schützenverein Günz 1922 - Sommer Biathlon
DESCRIPTION:Ab 14 Uhr zeigen 18 Mädels und Jungs im Rahmen des Ferienprogramms beim Sommer-Biathlon ihre Schnelligkeit und Treffsicherheit. Wenn jemand bei einem Stück Kuchen und einer Tasse Kaffee den Athleten zusehen möchte\, ist er im Sportheim in Günz herzlich willkommen.
URL:https://www.gemeinde-westerheim.de/event/schuetzenverein-guenz-1922-sommer-biathlon/
LOCATION:Sportheim Günz
CATEGORIES:Veranstaltungen
END:VEVENT
END:VCALENDAR