BEGIN:VCALENDAR
VERSION:2.0
PRODID:-//Gemeinde Westerheim - ECPv5.4.0//NONSGML v1.0//EN
CALSCALE:GREGORIAN
METHOD:PUBLISH
X-WR-CALNAME:Gemeinde Westerheim
X-ORIGINAL-URL:https://www.gemeinde-westerheim.de
X-WR-CALDESC:Veranstaltungen für Gemeinde Westerheim
BEGIN:VTIMEZONE
TZID:Europe/Berlin
BEGIN:DAYLIGHT
TZOFFSETFROM:+0100
TZOFFSETTO:+0200
TZNAME:CEST
DTSTART:20240331T010000
END:DAYLIGHT
BEGIN:STANDARD
TZOFFSETFROM:+0200
TZOFFSETTO:+0100
TZNAME:CET
DTSTART:20241027T010000
END:STANDARD
END:VTIMEZONE
BEGIN:VEVENT
DTSTART;TZID=Europe/Berlin:20240708T083000
DTEND;TZID=Europe/Berlin:20240708T153000
DTSTAMP:20260419T201420
CREATED:20240529T083127Z
LAST-MODIFIED:20240529T084625Z
UID:8682-1720427400-1720452600@www.gemeinde-westerheim.de
SUMMARY:Ausflug - Pfarrgemeinden Günz und Westerheim
DESCRIPTION:Voranzeige: Am Montag\, 08.07.24\, wollen wir gemeinsam Pfarrer Donatus Uzouagwa in seinem neuen Heimatort Oberfinningen besuchen. Wir werden am Vormittag zusammen mit ihm einen Gottesdienst feiern\, dann fahren wir zum gemeinsamen Mittagessen ins Gasthaus Schlössle. Den Nachmittag wollen wir gemütlich im Garten von Donatus bei Kaffee und Kuchen verbringen. Pfarrer Donatus freut sich sehr über unseren Besuch\, auf viele bekannte Gesichter und schöne Gespräche. Die Kosten für den Bus betragen ca. 12 bis 15 Euro (je nach Teilnehmerzahl) Abfahrt: ca. 8.50 Uhr in Westerheim (Kirche) und 9 Uhr in Günz (im Hof von Familie Heel). Rückfahrt ca. 15.30 Uhr. Sie können sich ab sofort bis zum 17.06.24 anmelden bei Gertrud Lebherz\, Tel. 1524\, Frau Bettina Heel\, Tel. 809679\, Frau Maria Holzhai\, Tel. 08393/409
URL:https://www.gemeinde-westerheim.de/event/pfarrgemeinden-guenz-und-westerheim-ausflug/
CATEGORIES:Veranstaltungen
END:VEVENT
END:VCALENDAR