BEGIN:VCALENDAR
VERSION:2.0
PRODID:-//Gemeinde Westerheim - ECPv5.4.0//NONSGML v1.0//EN
CALSCALE:GREGORIAN
METHOD:PUBLISH
X-WR-CALNAME:Gemeinde Westerheim
X-ORIGINAL-URL:https://www.gemeinde-westerheim.de
X-WR-CALDESC:Veranstaltungen für Gemeinde Westerheim
BEGIN:VTIMEZONE
TZID:Europe/Berlin
BEGIN:DAYLIGHT
TZOFFSETFROM:+0100
TZOFFSETTO:+0200
TZNAME:CEST
DTSTART:20240331T010000
END:DAYLIGHT
BEGIN:STANDARD
TZOFFSETFROM:+0200
TZOFFSETTO:+0100
TZNAME:CET
DTSTART:20241027T010000
END:STANDARD
END:VTIMEZONE
BEGIN:VEVENT
DTSTART;VALUE=DATE:20240706
DTEND;VALUE=DATE:20240708
DTSTAMP:20260419T200950
CREATED:20240702T164714Z
LAST-MODIFIED:20240702T164748Z
UID:8899-1720224000-1720396799@www.gemeinde-westerheim.de
SUMMARY:SpVgg Günz/Lauben - '2erloi-Cup' am 06.07.24 + 07.07.24
DESCRIPTION:Wir laden herzlich zum großen Fußballwochenende auf dem Sportgelände in Lauben ein: Sa 06.07. 14 Uhr E2-Jugend-Turnier\, 16 Uhr F1-Jugend-Turnier. So 07.07. 9.30 Uhr F2-Jugend-Turnier\, 11.30 Uhr Bambini-Turnier\, 13.30 Uhr E1-Jugend-Turnier. Abgerundet wird das Wochenende mit dem ersten Vorbereitungsspiel der Herrenmannschaften am \nSo 07.07. 16.30 Uhr SpVgg I – TSV Kammlach I \nSo 07.07. 18.30 Uhr SpVgg II – TSV Kammlach II \nFür Spiel\, Spaß\, Essen und kühle Getränke ist gesorgt. Über zahlreiche Zuschauer und spannende Spiele freuen sich alle Teams der Spielvereinigung! \n 
URL:https://www.gemeinde-westerheim.de/event/spvgg-guenz-lauben-2erloi-cup-am-06-07-24-07-07-24/
CATEGORIES:Veranstaltungen
END:VEVENT
BEGIN:VEVENT
DTSTART;TZID=Europe/Berlin:20240707T200000
DTEND;TZID=Europe/Berlin:20240707T220000
DTSTAMP:20260419T200950
CREATED:20240611T161651Z
LAST-MODIFIED:20240611T161651Z
UID:8750-1720382400-1720389600@www.gemeinde-westerheim.de
SUMMARY:Generalversammlung - JFG Oberes Günztal e.V.
DESCRIPTION:wir laden recht herzlich zu unserer ordentlichen Generalversammlung  ein. \nVorläufige Tagesordnung: \nTOP1: Begrüßung durch den 1. Vorsitzenden \nTOP2: Feststellung der ordnungsgemäßen Einberufung und Beschlussfähigkeit \nTOP3: Bericht des 1. Vorsitzenden \nTOP4: Bericht der Kassiererin/Genehmigung des Haushaltsplanes 2024 \nTOP5: Bericht der Kassenprüfer \nTOP6: Bericht der Schriftführerin \nTOP7: Berichte der einzelnen Mannschaften \nTOP8: Entlastung der Vorstandschaft \nTOP9: Verschiedenes\, Wünsche und Anträge \nWünsche und Anträge sind bitte bis spätestens zum 27.06.24 schriftlich beim 1. Vorsitzenden Stefan Miller\, Dorfstraße 22a\, 87784 Westerheim (oder per E-Mail an: vorstand@jfg-oberes-guentzal.de) einzureichen. Sind bis dahin keine schriftlichen Anträge eingegangen\, so wird diese vorläufige Tagesordnung endgültig.
URL:https://www.gemeinde-westerheim.de/event/generalversammlung-jfg-oberes-guenztal-e-v/
LOCATION:Sportheim Ungerhausen\, Sportplatzweg 1\, Ungerhausen\, 87781\, Deutschland
CATEGORIES:Veranstaltungen
END:VEVENT
END:VCALENDAR