BEGIN:VCALENDAR
VERSION:2.0
PRODID:-//Gemeinde Westerheim - ECPv5.4.0//NONSGML v1.0//EN
CALSCALE:GREGORIAN
METHOD:PUBLISH
X-WR-CALNAME:Gemeinde Westerheim
X-ORIGINAL-URL:https://www.gemeinde-westerheim.de
X-WR-CALDESC:Veranstaltungen für Gemeinde Westerheim
BEGIN:VTIMEZONE
TZID:Europe/Berlin
BEGIN:DAYLIGHT
TZOFFSETFROM:+0100
TZOFFSETTO:+0200
TZNAME:CEST
DTSTART:20240331T010000
END:DAYLIGHT
BEGIN:STANDARD
TZOFFSETFROM:+0200
TZOFFSETTO:+0100
TZNAME:CET
DTSTART:20241027T010000
END:STANDARD
END:VTIMEZONE
BEGIN:VEVENT
DTSTART;TZID=Europe/Berlin:20240625T143000
DTEND;TZID=Europe/Berlin:20240625T170000
DTSTAMP:20260419T184706
CREATED:20240618T061911Z
LAST-MODIFIED:20240618T061911Z
UID:8785-1719325800-1719334800@www.gemeinde-westerheim.de
SUMMARY:Zweckverband „Hochwasserschutz Günztal“
DESCRIPTION:Tagesordnung: \n\nGenehmigung der Niederschrift Nr. 13 vom 12.12.2023\nBericht vom Hochwasser Juni 2024 – Einstau von HRB Eldern und HRB Engetried\nHRB Frechenrieden – Sachstandsbericht\nHRB Sontheim – Sachstandsbericht\nHRB Westerheim – Sachstandsbericht\nVerlängerung der Vereinbarung zwischen dem Freistaat Bayern und dem Zweckverband Hochwasserschutz Günztal über die Kostenübernahme der Betriebsleitung der Hochwasserrückhaltebecken\nBekanntgabe des Berichts über die überörtliche Prüfung der Jahresrechnung 2019 – 2022\nFeststellung und Entlastung zur Jahresrechnung 2023\nVerschiedenes
URL:https://www.gemeinde-westerheim.de/event/zweckverband-hochwasserschutz-guenztal/
LOCATION:Haus des Gastes\, Marktplatz 14\,\, Ottobeuren\, 87724\, Deutschland
CATEGORIES:Veranstaltungen
END:VEVENT
END:VCALENDAR