BEGIN:VCALENDAR
VERSION:2.0
PRODID:-//Gemeinde Westerheim - ECPv5.4.0//NONSGML v1.0//EN
CALSCALE:GREGORIAN
METHOD:PUBLISH
X-WR-CALNAME:Gemeinde Westerheim
X-ORIGINAL-URL:https://www.gemeinde-westerheim.de
X-WR-CALDESC:Veranstaltungen für Gemeinde Westerheim
BEGIN:VTIMEZONE
TZID:Europe/Berlin
BEGIN:DAYLIGHT
TZOFFSETFROM:+0100
TZOFFSETTO:+0200
TZNAME:CEST
DTSTART:20240331T010000
END:DAYLIGHT
BEGIN:STANDARD
TZOFFSETFROM:+0200
TZOFFSETTO:+0100
TZNAME:CET
DTSTART:20241027T010000
END:STANDARD
END:VTIMEZONE
BEGIN:VEVENT
DTSTART;TZID=Europe/Berlin:20240615T150000
DTEND;TZID=Europe/Berlin:20240615T190000
DTSTAMP:20260419T185345
CREATED:20240514T160522Z
LAST-MODIFIED:20240529T084751Z
UID:8616-1718463600-1718478000@www.gemeinde-westerheim.de
SUMMARY:Veteranentag - Krieger- und Soldatenverein Westerheim-Günz
DESCRIPTION:Im April 2024 beschloss der Bundestag; 15. Juni ist nun Veteranentag. Das ist kein Feiertag\, aber ein Gedenktag für frühere und aktuelle Angehörige der Bundeswehr (auch Wehrpflichtige). Aus diesem Grund laden wir alle ehemaligen und aktuellen Soldaten der Bundeswehr aus allen Ortsteilen zu einem lockeren Beisammensein ins Sportheim Westerheim ein. Treffpunkt: Samstag 15.06.24 ab 15 Uhr. Für Träger des Veteranenabzeichens gibt’s Kaffee und Kuchen kostenlos. Selbstverständlich sind auch alle Nichtmitglieder eingeladen. Wir freuen uns auf euer Kommen. Die Vorstandschaft
URL:https://www.gemeinde-westerheim.de/event/krieger-und-soldatenverein-westerheim-guenz/
CATEGORIES:Veranstaltungen
END:VEVENT
END:VCALENDAR