BEGIN:VCALENDAR
VERSION:2.0
PRODID:-//Gemeinde Westerheim - ECPv5.4.0//NONSGML v1.0//EN
CALSCALE:GREGORIAN
METHOD:PUBLISH
X-WR-CALNAME:Gemeinde Westerheim
X-ORIGINAL-URL:https://www.gemeinde-westerheim.de
X-WR-CALDESC:Veranstaltungen für Gemeinde Westerheim
BEGIN:VTIMEZONE
TZID:Europe/Berlin
BEGIN:DAYLIGHT
TZOFFSETFROM:+0100
TZOFFSETTO:+0200
TZNAME:CEST
DTSTART:20240331T010000
END:DAYLIGHT
BEGIN:STANDARD
TZOFFSETFROM:+0200
TZOFFSETTO:+0100
TZNAME:CET
DTSTART:20241027T010000
END:STANDARD
END:VTIMEZONE
BEGIN:VEVENT
DTSTART;TZID=Europe/Berlin:20240614T083000
DTEND;TZID=Europe/Berlin:20240614T170000
DTSTAMP:20260419T184838
CREATED:20240305T172439Z
LAST-MODIFIED:20240529T084819Z
UID:8328-1718353800-1718384400@www.gemeinde-westerheim.de
SUMMARY:Öko Feldtag der Öko-Modellregion Günztal
DESCRIPTION:am 14. Juni 2024 findet der achtzehnte Öko-Feldtag der Bayerischen Landesanstalt für Landwirtschaft (LfL) statt.
URL:https://www.gemeinde-westerheim.de/event/oeko-modellregion-guenztal-und-dampfsaeg/
LOCATION:Versuchstation Neuhof\, Deutschland
CATEGORIES:Veranstaltungen
END:VEVENT
END:VCALENDAR