BEGIN:VCALENDAR
VERSION:2.0
PRODID:-//Gemeinde Westerheim - ECPv5.4.0//NONSGML v1.0//EN
CALSCALE:GREGORIAN
METHOD:PUBLISH
X-WR-CALNAME:Gemeinde Westerheim
X-ORIGINAL-URL:https://www.gemeinde-westerheim.de
X-WR-CALDESC:Veranstaltungen für Gemeinde Westerheim
BEGIN:VTIMEZONE
TZID:Europe/Berlin
BEGIN:DAYLIGHT
TZOFFSETFROM:+0100
TZOFFSETTO:+0200
TZNAME:CEST
DTSTART:20240331T010000
END:DAYLIGHT
BEGIN:STANDARD
TZOFFSETFROM:+0200
TZOFFSETTO:+0100
TZNAME:CET
DTSTART:20241027T010000
END:STANDARD
END:VTIMEZONE
BEGIN:VEVENT
DTSTART;TZID=Europe/Berlin:20240612T183000
DTEND;TZID=Europe/Berlin:20240612T220000
DTSTAMP:20260419T185556
CREATED:20240604T160731Z
LAST-MODIFIED:20240604T160731Z
UID:8722-1718217000-1718229600@www.gemeinde-westerheim.de
SUMMARY:Kultur und Heimatverein Günz e. V. - Synagogenführung
DESCRIPTION:Am Mittwoch\, 12.06.24 fahren wir nach Fellheim zur Besichtigung der Synagoge und des dahinterliegenden Friedhofs der ehemaligen jüdischen Gemeinde. Treffpunkt ist um 18.40 Uhr am Sportheim in Günz\, um Fahrgemeinschaften zu bilden. Abfahrt um 18.45 Uhr. Der Unkostenbeitrag liegt bei 3\,- € pro Person. Auch Nichtmitglieder können teilnehmen. Anm. bitte bis 09.06. bei Georg Lambacher Tel. 08336/9814. \nKultur- und Heimatverein Günz e.V. 1. Vorstand: Martin Glöckler
URL:https://www.gemeinde-westerheim.de/event/kultur-und-heimatverein-guenz-e-v-synagogenfuehrung/
CATEGORIES:Veranstaltungen
END:VEVENT
END:VCALENDAR