BEGIN:VCALENDAR
VERSION:2.0
PRODID:-//Gemeinde Westerheim - ECPv5.4.0//NONSGML v1.0//EN
CALSCALE:GREGORIAN
METHOD:PUBLISH
X-WR-CALNAME:Gemeinde Westerheim
X-ORIGINAL-URL:https://www.gemeinde-westerheim.de
X-WR-CALDESC:Veranstaltungen für Gemeinde Westerheim
BEGIN:VTIMEZONE
TZID:Europe/Berlin
BEGIN:DAYLIGHT
TZOFFSETFROM:+0100
TZOFFSETTO:+0200
TZNAME:CEST
DTSTART:20240331T010000
END:DAYLIGHT
BEGIN:STANDARD
TZOFFSETFROM:+0200
TZOFFSETTO:+0100
TZNAME:CET
DTSTART:20241027T010000
END:STANDARD
END:VTIMEZONE
BEGIN:VEVENT
DTSTART;TZID=Europe/Berlin:20240609T060000
DTEND;TZID=Europe/Berlin:20240609T160000
DTSTAMP:20260419T185623
CREATED:20240605T091847Z
LAST-MODIFIED:20240605T091922Z
UID:8724-1717912800-1717948800@www.gemeinde-westerheim.de
SUMMARY:2. Untrallgäuer Radrundfahrt
DESCRIPTION:Am Sonntag\, 09.06.24\, von 6 Uhr bis ca. 16 Uhr\, findet die 2. Unterallgäuer Radrundfahrt vom Velo-Club Mindelheim\, statt. Es ist möglich\, dass es zu Verkehrsbehinderungen kommt. Wir bitten Sie um Rücksichtnahme im Straßenverkehr und um ihr Verständnis. Vielen Dank!
URL:https://www.gemeinde-westerheim.de/event/2-untrallgaeuer-radrundfahrt/
CATEGORIES:Veranstaltungen
END:VEVENT
BEGIN:VEVENT
DTSTART;TZID=Europe/Berlin:20240609T080000
DTEND;TZID=Europe/Berlin:20240609T170000
DTSTAMP:20260419T185623
CREATED:20240228T091446Z
LAST-MODIFIED:20240228T091446Z
UID:8253-1717920000-1717952400@www.gemeinde-westerheim.de
SUMMARY:Europawahl 2024
DESCRIPTION:
URL:https://www.gemeinde-westerheim.de/event/europawahl-2024/
CATEGORIES:Veranstaltungen
END:VEVENT
END:VCALENDAR