BEGIN:VCALENDAR
VERSION:2.0
PRODID:-//Gemeinde Westerheim - ECPv5.4.0//NONSGML v1.0//EN
CALSCALE:GREGORIAN
METHOD:PUBLISH
X-WR-CALNAME:Gemeinde Westerheim
X-ORIGINAL-URL:https://www.gemeinde-westerheim.de
X-WR-CALDESC:Veranstaltungen für Gemeinde Westerheim
BEGIN:VTIMEZONE
TZID:Europe/Berlin
BEGIN:DAYLIGHT
TZOFFSETFROM:+0100
TZOFFSETTO:+0200
TZNAME:CEST
DTSTART:20240331T010000
END:DAYLIGHT
BEGIN:STANDARD
TZOFFSETFROM:+0200
TZOFFSETTO:+0100
TZNAME:CET
DTSTART:20241027T010000
END:STANDARD
END:VTIMEZONE
BEGIN:VEVENT
DTSTART;TZID=Europe/Berlin:20240607T150000
DTEND;TZID=Europe/Berlin:20240607T170000
DTSTAMP:20260419T185429
CREATED:20240529T083655Z
LAST-MODIFIED:20240529T084659Z
UID:8686-1717772400-1717779600@www.gemeinde-westerheim.de
SUMMARY:Instrumentenvorstellung der Westerheimer Musikanten
DESCRIPTION:Für alle Musikbegeisterten \nInstrumentevorstellung & ausprobieren \nmit anschließender öffentlicher Probe ab 19 Uhr vor oder in der Festhalle.
URL:https://www.gemeinde-westerheim.de/event/westerheimer-musikanten/
LOCATION:Westerheimer Wochenmarkt
CATEGORIES:Veranstaltungen
END:VEVENT
END:VCALENDAR