BEGIN:VCALENDAR
VERSION:2.0
PRODID:-//Gemeinde Westerheim - ECPv5.4.0//NONSGML v1.0//EN
CALSCALE:GREGORIAN
METHOD:PUBLISH
X-WR-CALNAME:Gemeinde Westerheim
X-ORIGINAL-URL:https://www.gemeinde-westerheim.de
X-WR-CALDESC:Veranstaltungen für Gemeinde Westerheim
BEGIN:VTIMEZONE
TZID:Europe/Berlin
BEGIN:DAYLIGHT
TZOFFSETFROM:+0100
TZOFFSETTO:+0200
TZNAME:CEST
DTSTART:20190331T010000
END:DAYLIGHT
BEGIN:STANDARD
TZOFFSETFROM:+0200
TZOFFSETTO:+0100
TZNAME:CET
DTSTART:20191027T010000
END:STANDARD
END:VTIMEZONE
BEGIN:VEVENT
DTSTART;TZID=Europe/Berlin:20191205T140000
DTEND;TZID=Europe/Berlin:20191205T140000
DTSTAMP:20260426T002412
CREATED:20191107T083551Z
LAST-MODIFIED:20191107T083745Z
UID:3358-1575554400-1575554400@www.gemeinde-westerheim.de
SUMMARY:Bürgerversammlung für Senioren 2019
DESCRIPTION:
URL:https://www.gemeinde-westerheim.de/event/buergerversammlung-fuer-senioren-2019/
LOCATION:Vereinsheim “Alte Schule” Westerheim\, Schulweg 3\, Westerheim\, Bayern\, 87784\, Deutschland
CATEGORIES:Veranstaltungen
ORGANIZER;CN="Gemeinde%20Westerheim":MAILTO:rathaus@gemeinde-westerheim.de
END:VEVENT
END:VCALENDAR