BEGIN:VCALENDAR
VERSION:2.0
PRODID:-//Gemeinde Westerheim - ECPv5.4.0//NONSGML v1.0//EN
CALSCALE:GREGORIAN
METHOD:PUBLISH
X-WR-CALNAME:Gemeinde Westerheim
X-ORIGINAL-URL:https://www.gemeinde-westerheim.de
X-WR-CALDESC:Veranstaltungen für Gemeinde Westerheim
BEGIN:VTIMEZONE
TZID:Europe/Berlin
BEGIN:DAYLIGHT
TZOFFSETFROM:+0100
TZOFFSETTO:+0200
TZNAME:CEST
DTSTART:20190331T010000
END:DAYLIGHT
BEGIN:STANDARD
TZOFFSETFROM:+0200
TZOFFSETTO:+0100
TZNAME:CET
DTSTART:20191027T010000
END:STANDARD
END:VTIMEZONE
BEGIN:VEVENT
DTSTART;TZID=Europe/Berlin:20191025T200000
DTEND;TZID=Europe/Berlin:20191025T200000
DTSTAMP:20260426T031057
CREATED:20190502T213800Z
LAST-MODIFIED:20190506T141059Z
UID:2559-1572033600-1572033600@www.gemeinde-westerheim.de
SUMMARY:Abteilungsversammlung der Skiabteilung des FC Westerheim e.V.
DESCRIPTION:
URL:https://www.gemeinde-westerheim.de/event/abteilungsversammlung-der-skiabteilung-des-fc-westerheim-e-v/
LOCATION:Sportheim des FC Westerheim e.V.\, Deutschland
CATEGORIES:Veranstaltungen
END:VEVENT
END:VCALENDAR