BEGIN:VCALENDAR
VERSION:2.0
PRODID:-//Gemeinde Westerheim - ECPv5.4.0//NONSGML v1.0//EN
CALSCALE:GREGORIAN
METHOD:PUBLISH
X-WR-CALNAME:Gemeinde Westerheim
X-ORIGINAL-URL:https://www.gemeinde-westerheim.de
X-WR-CALDESC:Veranstaltungen für Gemeinde Westerheim
BEGIN:VTIMEZONE
TZID:Europe/Berlin
BEGIN:DAYLIGHT
TZOFFSETFROM:+0100
TZOFFSETTO:+0200
TZNAME:CEST
DTSTART:20190331T010000
END:DAYLIGHT
BEGIN:STANDARD
TZOFFSETFROM:+0200
TZOFFSETTO:+0100
TZNAME:CET
DTSTART:20191027T010000
END:STANDARD
END:VTIMEZONE
BEGIN:VEVENT
DTSTART;TZID=Europe/Berlin:20190927T000000
DTEND;TZID=Europe/Berlin:20190929T000000
DTSTAMP:20260426T044331
CREATED:20190711T083119Z
LAST-MODIFIED:20190711T084620Z
UID:2902-1569542400-1569715200@www.gemeinde-westerheim.de
SUMMARY:AH Ausflug des FC Westerheim
DESCRIPTION:
URL:https://www.gemeinde-westerheim.de/event/ausflug-des-kath-frauenbundes-guenz-copy/
LOCATION:Wagner Stadt\, Bayreuth\, Deutschland
CATEGORIES:Veranstaltungen
END:VEVENT
END:VCALENDAR