BEGIN:VCALENDAR
VERSION:2.0
PRODID:-//Gemeinde Westerheim - ECPv5.4.0//NONSGML v1.0//EN
CALSCALE:GREGORIAN
METHOD:PUBLISH
X-WR-CALNAME:Gemeinde Westerheim
X-ORIGINAL-URL:https://www.gemeinde-westerheim.de
X-WR-CALDESC:Veranstaltungen für Gemeinde Westerheim
BEGIN:VTIMEZONE
TZID:Europe/Berlin
BEGIN:DAYLIGHT
TZOFFSETFROM:+0100
TZOFFSETTO:+0200
TZNAME:CEST
DTSTART:20190331T010000
END:DAYLIGHT
BEGIN:STANDARD
TZOFFSETFROM:+0200
TZOFFSETTO:+0100
TZNAME:CET
DTSTART:20191027T010000
END:STANDARD
END:VTIMEZONE
BEGIN:VEVENT
DTSTART;VALUE=DATE:20190803
DTEND;VALUE=DATE:20190804
DTSTAMP:20260426T062757
CREATED:20190606T142326Z
LAST-MODIFIED:20190711T081930Z
UID:2752-1564790400-1564876799@www.gemeinde-westerheim.de
SUMMARY:Ausflug des Obst- und Gartenbauverein Günz
DESCRIPTION:
URL:https://www.gemeinde-westerheim.de/event/ausflug-des-obst-und-gartenbauverein-guenz/
LOCATION:Mostbauer/Aroniahof Bad Waldsee\, Deutschland
CATEGORIES:Veranstaltungen
END:VEVENT
END:VCALENDAR