BEGIN:VCALENDAR
VERSION:2.0
PRODID:-//Gemeinde Westerheim - ECPv5.4.0//NONSGML v1.0//EN
CALSCALE:GREGORIAN
METHOD:PUBLISH
X-WR-CALNAME:Gemeinde Westerheim
X-ORIGINAL-URL:https://www.gemeinde-westerheim.de
X-WR-CALDESC:Veranstaltungen für Gemeinde Westerheim
BEGIN:VTIMEZONE
TZID:Europe/Berlin
BEGIN:DAYLIGHT
TZOFFSETFROM:+0100
TZOFFSETTO:+0200
TZNAME:CEST
DTSTART:20260329T010000
END:DAYLIGHT
BEGIN:STANDARD
TZOFFSETFROM:+0200
TZOFFSETTO:+0100
TZNAME:CET
DTSTART:20261025T010000
END:STANDARD
END:VTIMEZONE
BEGIN:VEVENT
DTSTART;TZID=Europe/Berlin:20260123T150000
DTEND;TZID=Europe/Berlin:20260123T170000
DTSTAMP:20260422T154501
CREATED:20251125T092754Z
LAST-MODIFIED:20260107T091331Z
UID:10859-1769180400-1769187600@www.gemeinde-westerheim.de
SUMMARY:Westerheimer Wochenmarkt ab 15 Uhr
DESCRIPTION:
URL:https://www.gemeinde-westerheim.de/event/westerheimer-wochenmarkt-5/
LOCATION:Gemeinde Westerheim\, Hauptstr. 39\, Westerheim\, 87784
CATEGORIES:Veranstaltungen
END:VEVENT
END:VCALENDAR