BEGIN:VCALENDAR
VERSION:2.0
PRODID:-//Gemeinde Westerheim - ECPv5.4.0//NONSGML v1.0//EN
CALSCALE:GREGORIAN
METHOD:PUBLISH
X-WR-CALNAME:Gemeinde Westerheim
X-ORIGINAL-URL:https://www.gemeinde-westerheim.de
X-WR-CALDESC:Veranstaltungen für Gemeinde Westerheim
BEGIN:VTIMEZONE
TZID:Europe/Berlin
BEGIN:DAYLIGHT
TZOFFSETFROM:+0100
TZOFFSETTO:+0200
TZNAME:CEST
DTSTART:20240331T010000
END:DAYLIGHT
BEGIN:STANDARD
TZOFFSETFROM:+0200
TZOFFSETTO:+0100
TZNAME:CET
DTSTART:20241027T010000
END:STANDARD
END:VTIMEZONE
BEGIN:VEVENT
DTSTART;TZID=Europe/Berlin:20240813T170000
DTEND;TZID=Europe/Berlin:20240813T233000
DTSTAMP:20260421T104445
CREATED:20240731T072438Z
LAST-MODIFIED:20240731T072438Z
UID:9022-1723568400-1723591800@www.gemeinde-westerheim.de
SUMMARY:Westerheimer Musikanten e.V. - Festwoche in Kempten
DESCRIPTION:  \nFür unseren diesjährigen Auftritt auf der Festwoche in Kempten haben wir wieder einen Fanbus organisiert. Fahrkarten sind bei Getränkemarkt Probst erhältlich. \nAbfahrt Westerheim (Kirche) – Kempten: 17.15 Uhr. \nAbfahrt Kempten – Westerheim (Kirche): ca. 23.30 Uhr. \nPreise: einfache Fahrt: 9 €. Hin- und Rückfahrt: 12 €. Tischreservierungen können unter www.reserviert.is/allgaeuer-festwoche-2024/ vorgenommen werden.
URL:https://www.gemeinde-westerheim.de/event/westerheimer-musikanten-e-v-festwoche-in-kempten/
LOCATION:Festwoche Kempten
CATEGORIES:Veranstaltungen
END:VEVENT
END:VCALENDAR