BEGIN:VCALENDAR
VERSION:2.0
PRODID:-//Gemeinde Westerheim - ECPv5.4.0//NONSGML v1.0//EN
CALSCALE:GREGORIAN
METHOD:PUBLISH
X-WR-CALNAME:Gemeinde Westerheim
X-ORIGINAL-URL:https://www.gemeinde-westerheim.de
X-WR-CALDESC:Veranstaltungen für Gemeinde Westerheim
BEGIN:VTIMEZONE
TZID:Europe/Berlin
BEGIN:DAYLIGHT
TZOFFSETFROM:+0100
TZOFFSETTO:+0200
TZNAME:CEST
DTSTART:20240331T010000
END:DAYLIGHT
BEGIN:STANDARD
TZOFFSETFROM:+0200
TZOFFSETTO:+0100
TZNAME:CET
DTSTART:20241027T010000
END:STANDARD
END:VTIMEZONE
BEGIN:VEVENT
DTSTART;TZID=Europe/Berlin:20240301T170000
DTEND;TZID=Europe/Berlin:20240301T190000
DTSTAMP:20260423T165356
CREATED:20240228T091430Z
LAST-MODIFIED:20240228T091430Z
UID:8257-1709312400-1709319600@www.gemeinde-westerheim.de
SUMMARY:Weltgebetstag der Frauen
DESCRIPTION:Beim WGT werdeb rund um den Globus ökumenische Gottesdienste gefeiert. Frauen aus Palästina haben diesen Tag vorbereitet und unter das Thema „…durch das Band des Friedens“ gestellt. \nIn Westerheim feiern wir den WGT am Freitag\, 1.03.24\, um 17 Uhr in der Pfarrkirche. \nDazu laden wir Frauen und Männer aller Konfessionen aus Günz und Westerheim recht herzlich ein. Auf zahlreiches Kommen und Mitbeten freuen sich die FB-Teams Günz und Westerheim.
URL:https://www.gemeinde-westerheim.de/event/weltgebetstag-der-frauen/
LOCATION:Pfarrkirche Westerheim und Günz\, Westerheim und Günz\, Bayern\, 87784\, Deutschland
CATEGORIES:Veranstaltungen
END:VEVENT
END:VCALENDAR