BEGIN:VCALENDAR
VERSION:2.0
PRODID:-//Gemeinde Westerheim - ECPv5.4.0//NONSGML v1.0//EN
CALSCALE:GREGORIAN
METHOD:PUBLISH
X-WR-CALNAME:Gemeinde Westerheim
X-ORIGINAL-URL:https://www.gemeinde-westerheim.de
X-WR-CALDESC:Veranstaltungen für Gemeinde Westerheim
BEGIN:VTIMEZONE
TZID:Europe/Berlin
BEGIN:DAYLIGHT
TZOFFSETFROM:+0100
TZOFFSETTO:+0200
TZNAME:CEST
DTSTART:20240331T010000
END:DAYLIGHT
BEGIN:STANDARD
TZOFFSETFROM:+0200
TZOFFSETTO:+0100
TZNAME:CET
DTSTART:20241027T010000
END:STANDARD
END:VTIMEZONE
BEGIN:VEVENT
DTSTART;TZID=Europe/Berlin:20240522T193000
DTEND;TZID=Europe/Berlin:20240522T213000
DTSTAMP:20260424T172903
CREATED:20240513T092409Z
LAST-MODIFIED:20240513T092409Z
UID:8610-1716406200-1716413400@www.gemeinde-westerheim.de
SUMMARY:Verbandsversammlung - Abwasserverband Oberes Günztal
DESCRIPTION:Einladung zur öffentlichen Sitzung der Verbandsversammlung des Abwasserverbands Oberes Günztal \nTagesordnung: \n\nBericht über die örtliche Prüfung der Jahresrechnung 2022\, Feststellung der Jahresrechnung 2022 und Entlastung zur Jahresrechnung 2022\nBekanntgabe der Jahresrechnung 2023\nVerabschiedung des Haushalts 2024 mit Erlass der Haushaltssatzung 2024\nÄnderung der Geschäftsordnung\nNachträgliche Genehmigung des Stromliefervertrages Zwischen dem Abwasserverband Oberes Günztal und der LEW\, Vertragsdauer 01.01.2024 bis 31.12.2025\nInformation zur Klärschlammentsorgung/Phosphorrückgewinnung\n\n\nGenehmigung der Niederschrift vom 04.07.2023 über die öffentliche Sitzung der Verbandsversammlung am 27.06.2023\nInformationen\n\nEs schließt sich ein nichtöffentlicher Teil an.
URL:https://www.gemeinde-westerheim.de/event/verbandsversammlung-abwasserverband-oberes-guenztal/
LOCATION:Kläranlage Oberes Günztal\, Am Gießbrunnen 1\, Lauben/Frickenhausen\, 87761\, Deutschland
CATEGORIES:Veranstaltungen
END:VEVENT
END:VCALENDAR