BEGIN:VCALENDAR
VERSION:2.0
PRODID:-//Gemeinde Westerheim - ECPv5.4.0//NONSGML v1.0//EN
CALSCALE:GREGORIAN
METHOD:PUBLISH
X-WR-CALNAME:Gemeinde Westerheim
X-ORIGINAL-URL:https://www.gemeinde-westerheim.de
X-WR-CALDESC:Veranstaltungen für Gemeinde Westerheim
BEGIN:VTIMEZONE
TZID:Europe/Berlin
BEGIN:DAYLIGHT
TZOFFSETFROM:+0100
TZOFFSETTO:+0200
TZNAME:CEST
DTSTART:20250330T010000
END:DAYLIGHT
BEGIN:STANDARD
TZOFFSETFROM:+0200
TZOFFSETTO:+0100
TZNAME:CET
DTSTART:20251026T010000
END:STANDARD
END:VTIMEZONE
BEGIN:VEVENT
DTSTART;TZID=Europe/Berlin:20250109T140000
DTEND;TZID=Europe/Berlin:20250109T170000
DTSTAMP:20260424T102727
CREATED:20250108T075637Z
LAST-MODIFIED:20250108T075927Z
UID:9623-1736431200-1736442000@www.gemeinde-westerheim.de
SUMMARY:Seniorennachmittag - Pfarrgemeinderat Westerheim
DESCRIPTION:Liebe Seniorinnen und Senioren\, unser Seniorennachmittag findet am Donnerstag\, 09.01.2025\, um 14 Uhr\, im Pfarrheim statt. Auf Euren Besuch freut sich das Seniorenteam. Möchten Sie abgeholt werden\, dann rufen Sie bitte bei Gertrud Lebherz\, Tel. 1524\, an.
URL:https://www.gemeinde-westerheim.de/event/seniorennachmittag-pfarrgemeinderat-westerheim-4/
CATEGORIES:Veranstaltungen
END:VEVENT
END:VCALENDAR