BEGIN:VCALENDAR
VERSION:2.0
PRODID:-//Gemeinde Westerheim - ECPv5.4.0//NONSGML v1.0//EN
CALSCALE:GREGORIAN
METHOD:PUBLISH
X-WR-CALNAME:Gemeinde Westerheim
X-ORIGINAL-URL:https://www.gemeinde-westerheim.de
X-WR-CALDESC:Veranstaltungen für Gemeinde Westerheim
BEGIN:VTIMEZONE
TZID:Europe/Berlin
BEGIN:DAYLIGHT
TZOFFSETFROM:+0100
TZOFFSETTO:+0200
TZNAME:CEST
DTSTART:20240331T010000
END:DAYLIGHT
BEGIN:STANDARD
TZOFFSETFROM:+0200
TZOFFSETTO:+0100
TZNAME:CET
DTSTART:20241027T010000
END:STANDARD
END:VTIMEZONE
BEGIN:VEVENT
DTSTART;TZID=Europe/Berlin:20241219T140000
DTEND;TZID=Europe/Berlin:20241219T170000
DTSTAMP:20260422T040150
CREATED:20241126T084258Z
LAST-MODIFIED:20241211T080142Z
UID:9508-1734616800-1734627600@www.gemeinde-westerheim.de
SUMMARY:Seniorennachmittag - Pfarrgemeinderat Westerheim
DESCRIPTION:Herzliche Einladung an alle Seniorinnen und Senioren. Auf Euren Besuch freut sich das Seniorenteam. \nMöchten Sie abgeholt werden\, dann rufen Sie bitte bei Christa Manz\, Tel. 7334\, an.
URL:https://www.gemeinde-westerheim.de/event/seniorennachmittag-pfarrgemeinderat-westerheim-3/
LOCATION:Pfarrheim Westerheim\, Schulweg 3\, Westerheim\, Bayern\, 87784\, Deutschland
CATEGORIES:Veranstaltungen
END:VEVENT
END:VCALENDAR