BEGIN:VCALENDAR
VERSION:2.0
PRODID:-//Gemeinde Westerheim - ECPv5.4.0//NONSGML v1.0//EN
CALSCALE:GREGORIAN
METHOD:PUBLISH
X-WR-CALNAME:Gemeinde Westerheim
X-ORIGINAL-URL:https://www.gemeinde-westerheim.de
X-WR-CALDESC:Veranstaltungen für Gemeinde Westerheim
BEGIN:VTIMEZONE
TZID:Europe/Berlin
BEGIN:DAYLIGHT
TZOFFSETFROM:+0100
TZOFFSETTO:+0200
TZNAME:CEST
DTSTART:20240331T010000
END:DAYLIGHT
BEGIN:STANDARD
TZOFFSETFROM:+0200
TZOFFSETTO:+0100
TZNAME:CET
DTSTART:20241027T010000
END:STANDARD
END:VTIMEZONE
BEGIN:VEVENT
DTSTART;TZID=Europe/Berlin:20240719T193000
DTEND;TZID=Europe/Berlin:20240719T213000
DTSTAMP:20260423T105418
CREATED:20240702T164952Z
LAST-MODIFIED:20240702T165131Z
UID:8901-1721417400-1721424600@www.gemeinde-westerheim.de
SUMMARY:Schützenverein Günz 1922 - Grillfest
DESCRIPTION:Am Freitag\, 19.07.24\, um 19.30 Uhr\, laden wir alle Vereinsmitglieder\, Freunde und Gönner zu unserem Grillfest hinter dem Sportheim ein. \nDie Vorstandschaft freut sich auf euer Kommen.
URL:https://www.gemeinde-westerheim.de/event/schuetzenverein-guenz-1922-grillfest/
LOCATION:Sportheim Günz
CATEGORIES:Veranstaltungen
END:VEVENT
END:VCALENDAR