BEGIN:VCALENDAR
VERSION:2.0
PRODID:-//Gemeinde Westerheim - ECPv5.4.0//NONSGML v1.0//EN
CALSCALE:GREGORIAN
METHOD:PUBLISH
X-WR-CALNAME:Gemeinde Westerheim
X-ORIGINAL-URL:https://www.gemeinde-westerheim.de
X-WR-CALDESC:Veranstaltungen für Gemeinde Westerheim
BEGIN:VTIMEZONE
TZID:Europe/Berlin
BEGIN:DAYLIGHT
TZOFFSETFROM:+0100
TZOFFSETTO:+0200
TZNAME:CEST
DTSTART:20250330T010000
END:DAYLIGHT
BEGIN:STANDARD
TZOFFSETFROM:+0200
TZOFFSETTO:+0100
TZNAME:CET
DTSTART:20251026T010000
END:STANDARD
END:VTIMEZONE
BEGIN:VEVENT
DTSTART;TZID=Europe/Berlin:20250222T193000
DTEND;TZID=Europe/Berlin:20250222T233000
DTSTAMP:20260423T165148
CREATED:20250203T110620Z
LAST-MODIFIED:20250203T110620Z
UID:9759-1740252600-1740267000@www.gemeinde-westerheim.de
SUMMARY:Schützenball - Schützenverein Günz 1922 e.V.
DESCRIPTION:Am Samstag\, 22.02.25\, heißen wir alle Bürger der Ortsteile Günz\, Rummeltshausen und Westerheim im Sportheim in Günz zum Schützenball herzlich willkommen\, wir wollen mit euch tanzen\, lachen und feiern. Für das leibliche Wohl ist ebenfalls gesorgt. Es erwarten euch die Schützen des SV Günz 1922.
URL:https://www.gemeinde-westerheim.de/event/schuetzenball-schuetzenverein-guenz-1922-e-v/
LOCATION:Schützenheim\, Dorfstraße 19\, Günz\, Bayern\, 87784\, Deutschland
CATEGORIES:Veranstaltungen
END:VEVENT
END:VCALENDAR