BEGIN:VCALENDAR
VERSION:2.0
PRODID:-//Gemeinde Westerheim - ECPv5.4.0//NONSGML v1.0//EN
CALSCALE:GREGORIAN
METHOD:PUBLISH
X-WR-CALNAME:Gemeinde Westerheim
X-ORIGINAL-URL:https://www.gemeinde-westerheim.de
X-WR-CALDESC:Veranstaltungen für Gemeinde Westerheim
BEGIN:VTIMEZONE
TZID:Europe/Berlin
BEGIN:DAYLIGHT
TZOFFSETFROM:+0100
TZOFFSETTO:+0200
TZNAME:CEST
DTSTART:20260329T010000
END:DAYLIGHT
BEGIN:STANDARD
TZOFFSETFROM:+0200
TZOFFSETTO:+0100
TZNAME:CET
DTSTART:20261025T010000
END:STANDARD
END:VTIMEZONE
BEGIN:VEVENT
DTSTART;TZID=Europe/Berlin:20260228T110000
DTEND;TZID=Europe/Berlin:20260228T163000
DTSTAMP:20260420T104325
CREATED:20260224T163028Z
LAST-MODIFIED:20260224T163028Z
UID:11213-1772276400-1772296200@www.gemeinde-westerheim.de
SUMMARY:Schlachtfest bei "Hubertus" - Schützenverein Hubertus Günz e.V.
DESCRIPTION:Ab ca. 11 Uhr Kesselfleischessen mit Fassbier im Schützenheim. Nachmittag Kaffee\, Kuchen und gegen Abend eine Hausmacher-Brotzeit. Alle sind herzlich eingeladen.
URL:https://www.gemeinde-westerheim.de/event/schlachtfest-bei-hubertus-schuetzenverein-hubertus-guenz-e-v-2/
LOCATION:Schützenheim “Hubertus Günz”\, Breubergweg 1\, Günz\, Bayern\, 87784\, Deutschland
CATEGORIES:Veranstaltungen
END:VEVENT
END:VCALENDAR