BEGIN:VCALENDAR
VERSION:2.0
PRODID:-//Gemeinde Westerheim - ECPv5.4.0//NONSGML v1.0//EN
CALSCALE:GREGORIAN
METHOD:PUBLISH
X-WR-CALNAME:Gemeinde Westerheim
X-ORIGINAL-URL:https://www.gemeinde-westerheim.de
X-WR-CALDESC:Veranstaltungen für Gemeinde Westerheim
BEGIN:VTIMEZONE
TZID:Europe/Berlin
BEGIN:DAYLIGHT
TZOFFSETFROM:+0100
TZOFFSETTO:+0200
TZNAME:CEST
DTSTART:20250330T010000
END:DAYLIGHT
BEGIN:STANDARD
TZOFFSETFROM:+0200
TZOFFSETTO:+0100
TZNAME:CET
DTSTART:20251026T010000
END:STANDARD
END:VTIMEZONE
BEGIN:VEVENT
DTSTART;TZID=Europe/Berlin:20250130T200000
DTEND;TZID=Europe/Berlin:20250130T220000
DTSTAMP:20260423T150845
CREATED:20250128T171739Z
LAST-MODIFIED:20250128T171739Z
UID:9742-1738267200-1738274400@www.gemeinde-westerheim.de
SUMMARY:Rehessen - Jagdgenossenschaft Günz/Rummeltshausen
DESCRIPTION:Die Jagdgenossenschaft Günz und Rummeltshausen lädt alle Mitglieder mit Partner oder Partnerin zum Rehessen ins Gasthaus Laupheimer recht herzlich ein. \nDie Vorstandschaft
URL:https://www.gemeinde-westerheim.de/event/rehessen-jagdgenossenschaft-guenz-rummeltshausen/
LOCATION:Gasthaus Laupheimer\, Dorfstraße 19\, Günz\, Bayern\, 87784\, Deutschland
CATEGORIES:Veranstaltungen
END:VEVENT
END:VCALENDAR