BEGIN:VCALENDAR
VERSION:2.0
PRODID:-//Gemeinde Westerheim - ECPv5.4.0//NONSGML v1.0//EN
CALSCALE:GREGORIAN
METHOD:PUBLISH
X-WR-CALNAME:Gemeinde Westerheim
X-ORIGINAL-URL:https://www.gemeinde-westerheim.de
X-WR-CALDESC:Veranstaltungen für Gemeinde Westerheim
BEGIN:VTIMEZONE
TZID:Europe/Berlin
BEGIN:DAYLIGHT
TZOFFSETFROM:+0100
TZOFFSETTO:+0200
TZNAME:CEST
DTSTART:20240331T010000
END:DAYLIGHT
BEGIN:STANDARD
TZOFFSETFROM:+0200
TZOFFSETTO:+0100
TZNAME:CET
DTSTART:20241027T010000
END:STANDARD
END:VTIMEZONE
BEGIN:VEVENT
DTSTART;TZID=Europe/Berlin:20240704T113000
DTEND;TZID=Europe/Berlin:20240704T133000
DTSTAMP:20260421T151243
CREATED:20240529T083011Z
LAST-MODIFIED:20240625T162424Z
UID:8680-1720092600-1720099800@www.gemeinde-westerheim.de
SUMMARY:Gemeinsames Mittagessen - Pfarrgemeinderat Günz
DESCRIPTION:Liebe Seniorinnen und Senioren\, wir laden Euch am Donnerstag\, 04.07.24\, ab 11.30 Uhr\, herzlich zum gemeinsamen Mittagessen ins Sportheim ein. Es gibt eine Suppe\, einen Hauptgang und ein Dessert für 7 €\, Getränke extra. Bei guter Resonanz findet das Seniorenessen jeden 1. Donnerstag im Monat statt. Anmeldung bitte bis Sonntag\, 30.06.24\, bei Gerlinde Miller\, Tel. 08336/7544. \nAuf Euer Kommen freut sich der Pfarrgemeinderat Günz
URL:https://www.gemeinde-westerheim.de/event/pfarrgemeinderat-guenz-gemeinsames-mittagessen/
LOCATION:Sporthalle Günz
CATEGORIES:Veranstaltungen
END:VEVENT
END:VCALENDAR