BEGIN:VCALENDAR
VERSION:2.0
PRODID:-//Gemeinde Westerheim - ECPv5.4.0//NONSGML v1.0//EN
CALSCALE:GREGORIAN
METHOD:PUBLISH
X-WR-CALNAME:Gemeinde Westerheim
X-ORIGINAL-URL:https://www.gemeinde-westerheim.de
X-WR-CALDESC:Veranstaltungen für Gemeinde Westerheim
BEGIN:VTIMEZONE
TZID:Europe/Berlin
BEGIN:DAYLIGHT
TZOFFSETFROM:+0100
TZOFFSETTO:+0200
TZNAME:CEST
DTSTART:20250330T010000
END:DAYLIGHT
BEGIN:STANDARD
TZOFFSETFROM:+0200
TZOFFSETTO:+0100
TZNAME:CET
DTSTART:20251026T010000
END:STANDARD
END:VTIMEZONE
BEGIN:VEVENT
DTSTART;TZID=Europe/Berlin:20250129T200000
DTEND;TZID=Europe/Berlin:20250129T220000
DTSTAMP:20260423T145424
CREATED:20250114T161208Z
LAST-MODIFIED:20250114T161300Z
UID:9645-1738180800-1738188000@www.gemeinde-westerheim.de
SUMMARY:Mitgliederversammlung - Katholischer Frauenbund Günz
DESCRIPTION:Einladung zur Mitgliederversammlung am Mittwoch\, 29.01.25\, 20 Uhr\, in der Pizzeria Corrado 33\, Rummeltshausen. \nTagesordnung: \n\nBegrüßung\nTotengedenken\nProtokoll der Schriftführerin\nTätigkeitsbericht 2024\nKassenbericht\nEntlastung des Teams\nBericht der Mutter – Kind – Gruppe\nVorschau auf das Jahr 2025\nWünsche und Anträge\n\nAlle Mitglieder sind recht herzlich eingeladen. Über zahlreiches erscheinen freut sich das Frauenbund – Team Günz.
URL:https://www.gemeinde-westerheim.de/event/mitgliederversammlung-katholischer-frauenbund-guenz/
CATEGORIES:Veranstaltungen
END:VEVENT
END:VCALENDAR