BEGIN:VCALENDAR
VERSION:2.0
PRODID:-//Gemeinde Westerheim - ECPv5.4.0//NONSGML v1.0//EN
CALSCALE:GREGORIAN
METHOD:PUBLISH
X-WR-CALNAME:Gemeinde Westerheim
X-ORIGINAL-URL:https://www.gemeinde-westerheim.de
X-WR-CALDESC:Veranstaltungen für Gemeinde Westerheim
BEGIN:VTIMEZONE
TZID:Europe/Berlin
BEGIN:DAYLIGHT
TZOFFSETFROM:+0100
TZOFFSETTO:+0200
TZNAME:CEST
DTSTART:20240331T010000
END:DAYLIGHT
BEGIN:STANDARD
TZOFFSETFROM:+0200
TZOFFSETTO:+0100
TZNAME:CET
DTSTART:20241027T010000
END:STANDARD
END:VTIMEZONE
BEGIN:VEVENT
DTSTART;TZID=Europe/Berlin:20240720T193000
DTEND;TZID=Europe/Berlin:20240720T223000
DTSTAMP:20260419T215953
CREATED:20240716T154707Z
LAST-MODIFIED:20240716T154707Z
UID:8949-1721503800-1721514600@www.gemeinde-westerheim.de
SUMMARY:Memminger Fischertag mit Westerheimer Musikanten
DESCRIPTION:Stimmungsmusik am Samstag 20. Juli ab 19.30 Uhr.  Bei hoffentlich bestem Sommerwetter unterhalten die Westerheimer Musikanten am Memminger Fischertag (Samstag!) mit einem Open-Air Stimmungsabend. Die Stimmungsmusik startet am Samstag ab 19.30 Uhr unter den Kastanien im Hof des Alten Gemeindehauses in der Pfaffengasse MM. Einlass ist ab 18.30 Uhr. Tickets gibt es vergünstigt (8€ im VVK) in der Weinfleck Vinothek\, oder zum regulären Preis an der Abendkasse. Veranstalter ist der Förderverein AGH & DBH. Weitere Infos: https://foerderverein-agh-dbh.de/
URL:https://www.gemeinde-westerheim.de/event/memminger-fischertag-mit-westerheimer-musikanten/
LOCATION:Memmingen\, Memmingen\, 87700\, Deutschland
CATEGORIES:Veranstaltungen
END:VEVENT
END:VCALENDAR