BEGIN:VCALENDAR
VERSION:2.0
PRODID:-//Gemeinde Westerheim - ECPv5.4.0//NONSGML v1.0//EN
CALSCALE:GREGORIAN
METHOD:PUBLISH
X-WR-CALNAME:Gemeinde Westerheim
X-ORIGINAL-URL:https://www.gemeinde-westerheim.de
X-WR-CALDESC:Veranstaltungen für Gemeinde Westerheim
BEGIN:VTIMEZONE
TZID:Europe/Berlin
BEGIN:DAYLIGHT
TZOFFSETFROM:+0100
TZOFFSETTO:+0200
TZNAME:CEST
DTSTART:20260329T010000
END:DAYLIGHT
BEGIN:STANDARD
TZOFFSETFROM:+0200
TZOFFSETTO:+0100
TZNAME:CET
DTSTART:20261025T010000
END:STANDARD
END:VTIMEZONE
BEGIN:VEVENT
DTSTART;TZID=Europe/Berlin:20260502T190000
DTEND;TZID=Europe/Berlin:20260502T220000
DTSTAMP:20260421T211025
CREATED:20260421T151015Z
LAST-MODIFIED:20260421T151053Z
UID:11477-1777748400-1777759200@www.gemeinde-westerheim.de
SUMMARY:Maibaumfest 2026 - Freiwillige Feuerwehr Westerheim e. V.
DESCRIPTION:
URL:https://www.gemeinde-westerheim.de/event/maibaumfest-2026-freiwillige-feuerwehr-westerheim-e-v/
LOCATION:Festzelt vor dem Feuerwehrhaus\, Bahnhofstr. 2\, Westerheim\, 87784\, Deutschland
END:VEVENT
END:VCALENDAR