BEGIN:VCALENDAR
VERSION:2.0
PRODID:-//Gemeinde Westerheim - ECPv5.4.0//NONSGML v1.0//EN
CALSCALE:GREGORIAN
METHOD:PUBLISH
X-WR-CALNAME:Gemeinde Westerheim
X-ORIGINAL-URL:https://www.gemeinde-westerheim.de
X-WR-CALDESC:Veranstaltungen für Gemeinde Westerheim
BEGIN:VTIMEZONE
TZID:Europe/Berlin
BEGIN:DAYLIGHT
TZOFFSETFROM:+0100
TZOFFSETTO:+0200
TZNAME:CEST
DTSTART:20260329T010000
END:DAYLIGHT
BEGIN:STANDARD
TZOFFSETFROM:+0200
TZOFFSETTO:+0100
TZNAME:CET
DTSTART:20261025T010000
END:STANDARD
END:VTIMEZONE
BEGIN:VEVENT
DTSTART;TZID=Europe/Berlin:20260314T200000
DTEND;TZID=Europe/Berlin:20260314T210000
DTSTAMP:20260423T133851
CREATED:20260303T100446Z
LAST-MODIFIED:20260303T100446Z
UID:11262-1773518400-1773522000@www.gemeinde-westerheim.de
SUMMARY:Laub’ner Blasmusik - Frühjahrskonzert
DESCRIPTION:Musik verbindet\, begeistert und berührt – und genau das möchten wir mit Euch teilen. Darum laden wir Euch ganz herzlich zu unserem Frühjahrskonzert am 14.03.26 um 20 Uhr in der Verbandshalle Erkheim ein. Freut Euch auf einen Abend voller mitreißender Klänge und musikalischer Überraschungen! Unser Programm führt Euch quer durch die Welt der Blasmusik\, von klassischen Highlights bis zu modernen Arrangements\, einem besonderem Musicalmedley und beeindruckenden Solistenmomenten.  Eintritt frei – unterstützt uns gerne mit einer Spende.Wir freuen uns sehr auf Euch! \nEure Laub’ner Blasmusik
URL:https://www.gemeinde-westerheim.de/event/laubner-blasmusik-fruehjahrskonzert/
CATEGORIES:Veranstaltungen
END:VEVENT
END:VCALENDAR