BEGIN:VCALENDAR
VERSION:2.0
PRODID:-//Gemeinde Westerheim - ECPv5.4.0//NONSGML v1.0//EN
CALSCALE:GREGORIAN
METHOD:PUBLISH
X-WR-CALNAME:Gemeinde Westerheim
X-ORIGINAL-URL:https://www.gemeinde-westerheim.de
X-WR-CALDESC:Veranstaltungen für Gemeinde Westerheim
BEGIN:VTIMEZONE
TZID:Europe/Berlin
BEGIN:DAYLIGHT
TZOFFSETFROM:+0100
TZOFFSETTO:+0200
TZNAME:CEST
DTSTART:20240331T010000
END:DAYLIGHT
BEGIN:STANDARD
TZOFFSETFROM:+0200
TZOFFSETTO:+0100
TZNAME:CET
DTSTART:20241027T010000
END:STANDARD
END:VTIMEZONE
BEGIN:VEVENT
DTSTART;TZID=Europe/Berlin:20241124T093000
DTEND;TZID=Europe/Berlin:20241124T143000
DTSTAMP:20260423T122522
CREATED:20241112T172607Z
LAST-MODIFIED:20241112T172607Z
UID:9438-1732440600-1732458600@www.gemeinde-westerheim.de
SUMMARY:Kirchenverwaltungswahl - Pfarrei Günz
DESCRIPTION:Am Sonntag\, 24.11.24 findet in unserer Diözese die Wahl der Kirchenverwaltungen statt. \nFür die Pfarrei Peter und Paul Günz in der alten Schule in Günz (Bücherei)\, am Sa. 23.11. von 15 Uhr bis 17.30 Uhr und am Sonntag 24.11.von 9.30 Uhr bis 14.30 Uhr. \nEs besteht auch die Möglichkeit der Briefwahl. Diese muss bis spätestens 19.11. beantragt werden. Die Unterlagen stehen jeweils am Schriftenstand in der Kirche zur Verfügung. \nDie Wahlausschüsse aus Günz und Westerheim
URL:https://www.gemeinde-westerheim.de/event/kirchenverwaltungswahl-pfarrei-guenz-2/
CATEGORIES:Veranstaltungen
END:VEVENT
END:VCALENDAR