BEGIN:VCALENDAR
VERSION:2.0
PRODID:-//Gemeinde Westerheim - ECPv5.4.0//NONSGML v1.0//EN
CALSCALE:GREGORIAN
METHOD:PUBLISH
X-WR-CALNAME:Gemeinde Westerheim
X-ORIGINAL-URL:https://www.gemeinde-westerheim.de
X-WR-CALDESC:Veranstaltungen für Gemeinde Westerheim
BEGIN:VTIMEZONE
TZID:Europe/Berlin
BEGIN:DAYLIGHT
TZOFFSETFROM:+0100
TZOFFSETTO:+0200
TZNAME:CEST
DTSTART:20250330T010000
END:DAYLIGHT
BEGIN:STANDARD
TZOFFSETFROM:+0200
TZOFFSETTO:+0100
TZNAME:CET
DTSTART:20251026T010000
END:STANDARD
END:VTIMEZONE
BEGIN:VEVENT
DTSTART;TZID=Europe/Berlin:20250222T130000
DTEND;TZID=Europe/Berlin:20250222T150000
DTSTAMP:20260423T164758
CREATED:20250114T161846Z
LAST-MODIFIED:20250114T161846Z
UID:9651-1740229200-1740236400@www.gemeinde-westerheim.de
SUMMARY:Kinderkleiderbasar Westerheim
DESCRIPTION:Am Samstag\, 22.02.25\, findet von 13 bis 15 Uhr in der Festhalle Westerheim wieder ein Kinderkleiderbasar statt. Es werden gut erhaltene Baby- und Kinderkleidung (Gr. 50-176)\, Spielsachen\, Autositze und weiteres rund ums Kind zum Verkauf angeboten. Warenannahme ist am Freitag\, 21.02.\, von 17 bis 18 Uhr. Nichtverkaufte Artikel können am Samstag\, 22.02. von 18 bis 18.30 Uhr wieder abgeholt werden. Chiffrenummern und weitere Infos erhalten Sie nur am Donnerstag\, 23.01. von 9 bis 10 Uhr und von 18 bis 19 Uhr unter Tel. 08336/9638.
URL:https://www.gemeinde-westerheim.de/event/kinderkleiderbasar-westerheim-3/
LOCATION:Mehrzweckhalle Westerheim\, Bahnhofstr. 2\, Westerheim\, 87784\, Deutschland
CATEGORIES:Veranstaltungen
END:VEVENT
END:VCALENDAR