BEGIN:VCALENDAR
VERSION:2.0
PRODID:-//Gemeinde Westerheim - ECPv5.4.0//NONSGML v1.0//EN
CALSCALE:GREGORIAN
METHOD:PUBLISH
X-WR-CALNAME:Gemeinde Westerheim
X-ORIGINAL-URL:https://www.gemeinde-westerheim.de
X-WR-CALDESC:Veranstaltungen für Gemeinde Westerheim
BEGIN:VTIMEZONE
TZID:Europe/Berlin
BEGIN:DAYLIGHT
TZOFFSETFROM:+0100
TZOFFSETTO:+0200
TZNAME:CEST
DTSTART:20250330T010000
END:DAYLIGHT
BEGIN:STANDARD
TZOFFSETFROM:+0200
TZOFFSETTO:+0100
TZNAME:CET
DTSTART:20251026T010000
END:STANDARD
END:VTIMEZONE
BEGIN:VEVENT
DTSTART;TZID=Europe/Berlin:20251109T180000
DTEND;TZID=Europe/Berlin:20251109T200000
DTSTAMP:20260420T103004
CREATED:20251104T092317Z
LAST-MODIFIED:20251104T092317Z
UID:10768-1762711200-1762718400@www.gemeinde-westerheim.de
SUMMARY:Kindergarten Westerheim - Martinsfest
DESCRIPTION:Martinsumzug und Martinsspiel im Kindergarten
URL:https://www.gemeinde-westerheim.de/event/kindergarten-westerheim-martinsfest/
CATEGORIES:Veranstaltungen
END:VEVENT
END:VCALENDAR