BEGIN:VCALENDAR
VERSION:2.0
PRODID:-//Gemeinde Westerheim - ECPv5.4.0//NONSGML v1.0//EN
CALSCALE:GREGORIAN
METHOD:PUBLISH
X-WR-CALNAME:Gemeinde Westerheim
X-ORIGINAL-URL:https://www.gemeinde-westerheim.de
X-WR-CALDESC:Veranstaltungen für Gemeinde Westerheim
BEGIN:VTIMEZONE
TZID:Europe/Berlin
BEGIN:DAYLIGHT
TZOFFSETFROM:+0100
TZOFFSETTO:+0200
TZNAME:CEST
DTSTART:20250330T010000
END:DAYLIGHT
BEGIN:STANDARD
TZOFFSETFROM:+0200
TZOFFSETTO:+0100
TZNAME:CET
DTSTART:20251026T010000
END:STANDARD
END:VTIMEZONE
BEGIN:VEVENT
DTSTART;TZID=Europe/Berlin:20251112T173000
DTEND;TZID=Europe/Berlin:20251112T190000
DTSTAMP:20260420T105657
CREATED:20251104T091435Z
LAST-MODIFIED:20251104T092117Z
UID:10766-1762968600-1762974000@www.gemeinde-westerheim.de
SUMMARY:Kindergarten Günz – Martinsfeier
DESCRIPTION:Der Kindergarten lädt alle Eltern mit Kindern\, sowie Freunde des Kindergartens recht herzlich zu unserer Martinsfeier ein. \nAm Mittwoch\, 12.11.25 um 17.30 Uhr\, in der Pfarrkirche Günz\, anschließend Laternenumzug in den Kindergarten. Danach wollen wir mit Ihnen unsere Feier mit Martinshörnchen\, Leberkäsesemmeln und Punsch ausklingen lassen. Bitte bestellen Sie entsprechend Martinshörnchen bzw. Leberkäsesemmeln bis 05.11.25 vor! Werfen Sie ihre Bestellung entweder in den Briefkasten im Kindergarten Günz (Dorfstr. 48) ein oder bestellen Sie telefonisch bei Frau Rieger unter 0151/62617140. Denken Sie bitte daran eine Tasse für den Punsch mitzubringen! Wir freuen uns auf eine schöne Feier! Ihr Kindergarten Günz
URL:https://www.gemeinde-westerheim.de/event/kindergarten-guenz-martinsfeier/
LOCATION:Kath. Pfarrkirche Günz\, Dorfstraße\, Westerheim / Günz\, 87784\, Deutschland
CATEGORIES:Veranstaltungen
END:VEVENT
END:VCALENDAR