BEGIN:VCALENDAR
VERSION:2.0
PRODID:-//Gemeinde Westerheim - ECPv5.4.0//NONSGML v1.0//EN
CALSCALE:GREGORIAN
METHOD:PUBLISH
X-WR-CALNAME:Gemeinde Westerheim
X-ORIGINAL-URL:https://www.gemeinde-westerheim.de
X-WR-CALDESC:Veranstaltungen für Gemeinde Westerheim
BEGIN:VTIMEZONE
TZID:Europe/Berlin
BEGIN:DAYLIGHT
TZOFFSETFROM:+0100
TZOFFSETTO:+0200
TZNAME:CEST
DTSTART:20250330T010000
END:DAYLIGHT
BEGIN:STANDARD
TZOFFSETFROM:+0200
TZOFFSETTO:+0100
TZNAME:CET
DTSTART:20251026T010000
END:STANDARD
END:VTIMEZONE
BEGIN:VEVENT
DTSTART;TZID=Europe/Berlin:20250110T150000
DTEND;TZID=Europe/Berlin:20250110T170000
DTSTAMP:20260423T145322
CREATED:20250108T081020Z
LAST-MODIFIED:20250108T081115Z
UID:9631-1736521200-1736528400@www.gemeinde-westerheim.de
SUMMARY:kein Wochenmarkt!!!
DESCRIPTION:
URL:https://www.gemeinde-westerheim.de/event/kein-wochenmarkt/
END:VEVENT
END:VCALENDAR