BEGIN:VCALENDAR
VERSION:2.0
PRODID:-//Gemeinde Westerheim - ECPv5.4.0//NONSGML v1.0//EN
CALSCALE:GREGORIAN
METHOD:PUBLISH
X-WR-CALNAME:Gemeinde Westerheim
X-ORIGINAL-URL:https://www.gemeinde-westerheim.de
X-WR-CALDESC:Veranstaltungen für Gemeinde Westerheim
BEGIN:VTIMEZONE
TZID:Europe/Berlin
BEGIN:DAYLIGHT
TZOFFSETFROM:+0100
TZOFFSETTO:+0200
TZNAME:CEST
DTSTART:20260329T010000
END:DAYLIGHT
BEGIN:STANDARD
TZOFFSETFROM:+0200
TZOFFSETTO:+0100
TZNAME:CET
DTSTART:20261025T010000
END:STANDARD
END:VTIMEZONE
BEGIN:VEVENT
DTSTART;TZID=Europe/Berlin:20260131T140000
DTEND;TZID=Europe/Berlin:20260131T170000
DTSTAMP:20260422T141517
CREATED:20260107T091543Z
LAST-MODIFIED:20260113T170303Z
UID:10959-1769868000-1769878800@www.gemeinde-westerheim.de
SUMMARY:Kaffeekränzchen - Kath. Frauenbund Westerheim
DESCRIPTION:Herzliche Einladung an alle Frauen und Männer zum traditionellen Kaffeekränzchen in der Festhalle Westerheim am Samstag\, 31.01.26. Für Unterhaltung sorgen das Rosswoid Trio & Tuba und verschiedene Einlagen. Über kostümierte Besucher freuen wir uns! Einlass ist um 13 Uhr\, Beginn um 14 Uhr. \nDer Eintritt beträgt 12 € inklusive 2 Stück Kuchen und Kaffee. \nKartenvorbestellung unter Tel. 08336/813175 \nFreitag\, 09.01. Mittwoch\, 14.01. Freitag\, 16.01. jeweils von 18 bis 19 Uhr. Sichern sie sich einen Platz durch Vorbestellung! Damit wir wieder ein reichhaltiges Kuchenbuffet anbieten können\, bitten wir alle\, die bereit sind\, einen Kuchen zu backen\, sich bis spätestens 27.01. zu melden bei Petra Bauer\, Tel. 419 oder Brigitte Brunner\, Tel. 1532. Herzlichen Dank im Voraus!                                                          Das Frauenbund Team
URL:https://www.gemeinde-westerheim.de/event/kath-frauenbund-westerheim-kaffeekraenzchen/
CATEGORIES:Veranstaltungen
END:VEVENT
END:VCALENDAR