BEGIN:VCALENDAR
VERSION:2.0
PRODID:-//Gemeinde Westerheim - ECPv5.4.0//NONSGML v1.0//EN
CALSCALE:GREGORIAN
METHOD:PUBLISH
X-WR-CALNAME:Gemeinde Westerheim
X-ORIGINAL-URL:https://www.gemeinde-westerheim.de
X-WR-CALDESC:Veranstaltungen für Gemeinde Westerheim
BEGIN:VTIMEZONE
TZID:Europe/Berlin
BEGIN:DAYLIGHT
TZOFFSETFROM:+0100
TZOFFSETTO:+0200
TZNAME:CEST
DTSTART:20250330T010000
END:DAYLIGHT
BEGIN:STANDARD
TZOFFSETFROM:+0200
TZOFFSETTO:+0100
TZNAME:CET
DTSTART:20251026T010000
END:STANDARD
END:VTIMEZONE
BEGIN:VEVENT
DTSTART;TZID=Europe/Berlin:20250119T110000
DTEND;TZID=Europe/Berlin:20250119T170000
DTSTAMP:20260423T151927
CREATED:20250108T080825Z
LAST-MODIFIED:20250108T080825Z
UID:9629-1737284400-1737306000@www.gemeinde-westerheim.de
SUMMARY:"Käppele-Fescht" - Schützenverein Rummeltshausen 1952 e.V.
DESCRIPTION:Voranzeige: Zum “Käppele-Fescht” am 19.01. lädt der Schützenverein Rummeltshausen zum Mittagstisch und Nachmittag zu Kaffee und Kuchen herzlich ein. \nAuf zahlreichen Besuch freuen wir uns.
URL:https://www.gemeinde-westerheim.de/event/kaeppele-fescht-schuetzenverein-rummeltshausen-1952-e-v/
CATEGORIES:Veranstaltungen
END:VEVENT
END:VCALENDAR