BEGIN:VCALENDAR
VERSION:2.0
PRODID:-//Gemeinde Westerheim - ECPv5.4.0//NONSGML v1.0//EN
CALSCALE:GREGORIAN
METHOD:PUBLISH
X-WR-CALNAME:Gemeinde Westerheim
X-ORIGINAL-URL:https://www.gemeinde-westerheim.de
X-WR-CALDESC:Veranstaltungen für Gemeinde Westerheim
BEGIN:VTIMEZONE
TZID:Europe/Berlin
BEGIN:DAYLIGHT
TZOFFSETFROM:+0100
TZOFFSETTO:+0200
TZNAME:CEST
DTSTART:20240331T010000
END:DAYLIGHT
BEGIN:STANDARD
TZOFFSETFROM:+0200
TZOFFSETTO:+0100
TZNAME:CET
DTSTART:20241027T010000
END:STANDARD
END:VTIMEZONE
BEGIN:VEVENT
DTSTART;TZID=Europe/Berlin:20240809T193000
DTEND;TZID=Europe/Berlin:20240809T230000
DTSTAMP:20260419T215940
CREATED:20240731T072212Z
LAST-MODIFIED:20240731T072212Z
UID:9020-1723231800-1723244400@www.gemeinde-westerheim.de
SUMMARY:Jagdgenossenschaft Günz-Rummeltshausen - Sommerfest
DESCRIPTION:Hierzu laden wir unsere Mitglieder mit Partner/-innen\, aber auch die alten Teiler sowie die Jungbauern/-bäuerinnen mit Partner/-innen recht herzlich ein. \nEssgeschirr bitte selber mitbringen!                Die Vorstandschaft
URL:https://www.gemeinde-westerheim.de/event/jagdgenossenschaft-guenz-rummeltshausen-sommerfest/
LOCATION:Sportheim Günz
CATEGORIES:Veranstaltungen
END:VEVENT
END:VCALENDAR