BEGIN:VCALENDAR
VERSION:2.0
PRODID:-//Gemeinde Westerheim - ECPv5.4.0//NONSGML v1.0//EN
CALSCALE:GREGORIAN
METHOD:PUBLISH
X-WR-CALNAME:Gemeinde Westerheim
X-ORIGINAL-URL:https://www.gemeinde-westerheim.de
X-WR-CALDESC:Veranstaltungen für Gemeinde Westerheim
BEGIN:VTIMEZONE
TZID:Europe/Berlin
BEGIN:DAYLIGHT
TZOFFSETFROM:+0100
TZOFFSETTO:+0200
TZNAME:CEST
DTSTART:20240331T010000
END:DAYLIGHT
BEGIN:STANDARD
TZOFFSETFROM:+0200
TZOFFSETTO:+0100
TZNAME:CET
DTSTART:20241027T010000
END:STANDARD
END:VTIMEZONE
BEGIN:VEVENT
DTSTART;TZID=Europe/Berlin:20241018T150000
DTEND;TZID=Europe/Berlin:20241018T170000
DTSTAMP:20260421T105850
CREATED:20241009T084945Z
LAST-MODIFIED:20241009T084945Z
UID:9273-1729263600-1729270800@www.gemeinde-westerheim.de
SUMMARY:Glaubenstage - Musiktheater „Peter Trom & die Orgelpfeifenkonferenz“.
DESCRIPTION:Für Kinder und Familien. Anmeldung bis 11.10.24.
URL:https://www.gemeinde-westerheim.de/event/glaubenstage-musiktheater-peter-trom-die-orgelpfeifenkonferenz/
LOCATION:Pfarrkirche Westerheim\, Westerheim\, 87784\, Deutschland
CATEGORIES:Veranstaltungen
END:VEVENT
END:VCALENDAR