BEGIN:VCALENDAR
VERSION:2.0
PRODID:-//Gemeinde Westerheim - ECPv5.4.0//NONSGML v1.0//EN
CALSCALE:GREGORIAN
METHOD:PUBLISH
X-WR-CALNAME:Gemeinde Westerheim
X-ORIGINAL-URL:https://www.gemeinde-westerheim.de
X-WR-CALDESC:Veranstaltungen für Gemeinde Westerheim
BEGIN:VTIMEZONE
TZID:Europe/Berlin
BEGIN:DAYLIGHT
TZOFFSETFROM:+0100
TZOFFSETTO:+0200
TZNAME:CEST
DTSTART:20240331T010000
END:DAYLIGHT
BEGIN:STANDARD
TZOFFSETFROM:+0200
TZOFFSETTO:+0100
TZNAME:CET
DTSTART:20241027T010000
END:STANDARD
END:VTIMEZONE
BEGIN:VEVENT
DTSTART;TZID=Europe/Berlin:20240203T190000
DTEND;TZID=Europe/Berlin:20240203T210000
DTSTAMP:20260423T181132
CREATED:20240228T091758Z
LAST-MODIFIED:20240228T091758Z
UID:8262-1706986800-1706994000@www.gemeinde-westerheim.de
SUMMARY:Generalversammlung Westerheimer Musikanten
DESCRIPTION:Hiermit laden wir zur ordentlichen Generalversammlung am Sonntag\, 03.03.24\, um 19 Uhr in das Musikheim ein. \nTagesordnung: \n\nBegrüßung\nProtokoll des Schriftführers\nKassenbericht\nBericht des Jugendleiters\nBericht des Vorstandes\nBericht des Dirigenten\nEntlastung der Vorstandschaft\nWünsche und Anträge\n\n(Änderungen vorbehalten) \n 
URL:https://www.gemeinde-westerheim.de/event/generalversammlung-westerheimer-musikanten-2/
LOCATION:Musikheim\, Westerheim\, 87784\, Deutschland
CATEGORIES:Veranstaltungen
END:VEVENT
END:VCALENDAR