BEGIN:VCALENDAR
VERSION:2.0
PRODID:-//Gemeinde Westerheim - ECPv5.4.0//NONSGML v1.0//EN
CALSCALE:GREGORIAN
METHOD:PUBLISH
X-WR-CALNAME:Gemeinde Westerheim
X-ORIGINAL-URL:https://www.gemeinde-westerheim.de
X-WR-CALDESC:Veranstaltungen für Gemeinde Westerheim
BEGIN:VTIMEZONE
TZID:Europe/Berlin
BEGIN:DAYLIGHT
TZOFFSETFROM:+0100
TZOFFSETTO:+0200
TZNAME:CEST
DTSTART:20250330T010000
END:DAYLIGHT
BEGIN:STANDARD
TZOFFSETFROM:+0200
TZOFFSETTO:+0100
TZNAME:CET
DTSTART:20251026T010000
END:STANDARD
END:VTIMEZONE
BEGIN:VEVENT
DTSTART;TZID=Europe/Berlin:20250329T193000
DTEND;TZID=Europe/Berlin:20250329T223000
DTSTAMP:20260426T002450
CREATED:20250225T163920Z
LAST-MODIFIED:20250225T163920Z
UID:9845-1743276600-1743287400@www.gemeinde-westerheim.de
SUMMARY:Generalversammlung - Freiwillige Feuerwehr Westerheim e. V.
DESCRIPTION:Herzliche Einladung zur Generalversammlung am 29.03.2025 um 19.30 Uhr im Gasthaus Laupheimer Günz. \nTagesordnung \n\nBegrüßung\nJahresbericht Kommandant\nBericht 1. Vorstand\nProtokoll Schriftführer\nKassenbericht\nEntlastung\nAnsprachen und Ehrungen\nWünsche und Anträge
URL:https://www.gemeinde-westerheim.de/event/generalversammlung-freiwillige-feuerwehr-westerheim-e-v/
LOCATION:Gasthaus Laupheimer\, Dorfstraße 19\, Günz\, Bayern\, 87784\, Deutschland
CATEGORIES:Veranstaltungen
END:VEVENT
END:VCALENDAR