BEGIN:VCALENDAR
VERSION:2.0
PRODID:-//Gemeinde Westerheim - ECPv5.4.0//NONSGML v1.0//EN
CALSCALE:GREGORIAN
METHOD:PUBLISH
X-WR-CALNAME:Gemeinde Westerheim
X-ORIGINAL-URL:https://www.gemeinde-westerheim.de
X-WR-CALDESC:Veranstaltungen für Gemeinde Westerheim
BEGIN:VTIMEZONE
TZID:Europe/Berlin
BEGIN:DAYLIGHT
TZOFFSETFROM:+0100
TZOFFSETTO:+0200
TZNAME:CEST
DTSTART:20240331T010000
END:DAYLIGHT
BEGIN:STANDARD
TZOFFSETFROM:+0200
TZOFFSETTO:+0100
TZNAME:CET
DTSTART:20241027T010000
END:STANDARD
END:VTIMEZONE
BEGIN:VEVENT
DTSTART;TZID=Europe/Berlin:20241209T200000
DTEND;TZID=Europe/Berlin:20241209T220000
DTSTAMP:20260421T183519
CREATED:20241204T082226Z
LAST-MODIFIED:20241204T082226Z
UID:9527-1733774400-1733781600@www.gemeinde-westerheim.de
SUMMARY:Gemeinderatssitzung
DESCRIPTION:
URL:https://www.gemeinde-westerheim.de/event/gemeinderatssitzung-3/
LOCATION:Gemeinde Westerheim\, Hauptstr. 39\, Westerheim\, 87784
CATEGORIES:Veranstaltungen
ORGANIZER;CN="Gemeinde%20Westerheim":MAILTO:rathaus@gemeinde-westerheim.de
END:VEVENT
END:VCALENDAR